BEGIN:VCALENDAR
VERSION:2.0
PRODID:-//Hudson Valley Ski Club, Inc. - ECPv6.15.20//NONSGML v1.0//EN
CALSCALE:GREGORIAN
METHOD:PUBLISH
X-WR-CALNAME:Hudson Valley Ski Club, Inc.
X-ORIGINAL-URL:https://hudsonvalleyskiclub.org
X-WR-CALDESC:Events for Hudson Valley Ski Club, Inc.
REFRESH-INTERVAL;VALUE=DURATION:PT1H
X-Robots-Tag:noindex
X-PUBLISHED-TTL:PT1H
BEGIN:VTIMEZONE
TZID:America/New_York
BEGIN:DAYLIGHT
TZOFFSETFROM:-0500
TZOFFSETTO:-0400
TZNAME:EDT
DTSTART:20240310T070000
END:DAYLIGHT
BEGIN:STANDARD
TZOFFSETFROM:-0400
TZOFFSETTO:-0500
TZNAME:EST
DTSTART:20241103T060000
END:STANDARD
BEGIN:DAYLIGHT
TZOFFSETFROM:-0500
TZOFFSETTO:-0400
TZNAME:EDT
DTSTART:20250309T070000
END:DAYLIGHT
BEGIN:STANDARD
TZOFFSETFROM:-0400
TZOFFSETTO:-0500
TZNAME:EST
DTSTART:20251102T060000
END:STANDARD
BEGIN:DAYLIGHT
TZOFFSETFROM:-0500
TZOFFSETTO:-0400
TZNAME:EDT
DTSTART:20260308T070000
END:DAYLIGHT
BEGIN:STANDARD
TZOFFSETFROM:-0400
TZOFFSETTO:-0500
TZNAME:EST
DTSTART:20261101T060000
END:STANDARD
END:VTIMEZONE
BEGIN:VEVENT
DTSTART;TZID=America/New_York:20251105T190000
DTEND;TZID=America/New_York:20251105T190000
DTSTAMP:20260424T131145
CREATED:20250919T175557Z
LAST-MODIFIED:20250919T175605Z
UID:29968-1762369200-1762369200@hudsonvalleyskiclub.org
SUMMARY:Member Meeting
DESCRIPTION:regular HVSC member meeting at American Legion
URL:https://hudsonvalleyskiclub.org/event/member-meeting/
LOCATION:American Legion\, Overlook Rd\, Arlington\, NY\, 12603\, United States
CATEGORIES:Meeting
END:VEVENT
BEGIN:VEVENT
DTSTART;TZID=America/New_York:20251107T173000
DTEND;TZID=America/New_York:20251107T173000
DTSTAMP:20260424T131145
CREATED:20251105T200900Z
LAST-MODIFIED:20251105T200900Z
UID:30041-1762536600-1762536600@hudsonvalleyskiclub.org
SUMMARY:Race Training - Longobardi
DESCRIPTION:TGIF “Race Training”  Longobardi’s restaurant \n1574 US 9 (South Rd) Wappingers Falls 
URL:https://hudsonvalleyskiclub.org/event/race-training-longobardi-2/
LOCATION:Longobardi Restaurant\, 1574 US 9\, Wappingers Falls\, NY\, 12590\, United States
CATEGORIES:Race Training
ORGANIZER;CN="Susan Kokosa":MAILTO:race_training-at-hudsonvalleyskiclub.org
END:VEVENT
BEGIN:VEVENT
DTSTART;TZID=America/New_York:20251114T173000
DTEND;TZID=America/New_York:20251114T173000
DTSTAMP:20260424T131145
CREATED:20251105T201105Z
LAST-MODIFIED:20251110T235750Z
UID:30043-1763141400-1763141400@hudsonvalleyskiclub.org
SUMMARY:Race Training - Margaritas
DESCRIPTION:TGIF “Race Training” at Margaritas\nin 9 Mall Plaza\, Wappingers Falls between Aldi & Kohl’s \n(originally scheduled for La Puerta Azul which has since closed) 
URL:https://hudsonvalleyskiclub.org/event/race-training-tbd/
LOCATION:Margaritas\, 1840 South Rd\, Wappingers Falls\, NY\, 12590\, United States
CATEGORIES:Race Training
ORGANIZER;CN="Susan Kokosa":MAILTO:race_training-at-hudsonvalleyskiclub.org
END:VEVENT
BEGIN:VEVENT
DTSTART;TZID=America/New_York:20251122T180000
DTEND;TZID=America/New_York:20251122T220000
DTSTAMP:20260424T131145
CREATED:20250909T192557Z
LAST-MODIFIED:20250919T173500Z
UID:29909-1763834400-1763848800@hudsonvalleyskiclub.org
SUMMARY:Start of Ski Season dinner dance
DESCRIPTION:HVSC & Trailsweepers will again kick off the ski season with a dinner/dance on November 22\, 2025\, at Stonehedge restaurant in West Park\, NY. \n6pm cocktail hour (cash bar)\n3 course dinner (soup\, choice of three entrees and dessert with coffee & tea)\nDJ will provide the dance tunes. \nSignups will begin in October. \nThe cost is $50 each HVSC member\, $55 for non-member guests. \nCarpooling – There are club members who would like to attend but decline because they are not comfortable driving at night. HVSC will be soliciting volunteers to give rides to these non-night-driving members. The evening’s enjoyment will certainly be enhanced by their presence. Come October Past Cummins will be looking for some kind members to pitch in. \n 
URL:https://hudsonvalleyskiclub.org/event/start-of-ski-season-dinner-dance/
LOCATION:NY
CATEGORIES:Event
END:VEVENT
BEGIN:VEVENT
DTSTART;TZID=America/New_York:20251128T173000
DTEND;TZID=America/New_York:20251128T173000
DTSTAMP:20260424T131145
CREATED:20210802T152635Z
LAST-MODIFIED:20251105T201432Z
UID:24206-1764351000-1764351000@hudsonvalleyskiclub.org
SUMMARY:Race Training - Shadows on the Hudson
DESCRIPTION:TGIF “Race Training”\nShadows on the Hudson – 176 Rinaldi Blvd\, Poughkeepsie
URL:https://hudsonvalleyskiclub.org/event/race-training-shadows/
LOCATION:Shadows on the Hudson\, 176 Rinaldi Blvd\, Poughkeepsie\, NY\, 12601\, United States
CATEGORIES:Race Training
ORGANIZER;CN="Susan Kokosa":MAILTO:race_training-at-hudsonvalleyskiclub.org
END:VEVENT
END:VCALENDAR