BEGIN:VCALENDAR
VERSION:2.0
PRODID:-//Hudson Valley Ski Club, Inc. - ECPv6.15.20//NONSGML v1.0//EN
CALSCALE:GREGORIAN
METHOD:PUBLISH
X-WR-CALNAME:Hudson Valley Ski Club, Inc.
X-ORIGINAL-URL:https://hudsonvalleyskiclub.org
X-WR-CALDESC:Events for Hudson Valley Ski Club, Inc.
REFRESH-INTERVAL;VALUE=DURATION:PT1H
X-Robots-Tag:noindex
X-PUBLISHED-TTL:PT1H
BEGIN:VTIMEZONE
TZID:America/New_York
BEGIN:DAYLIGHT
TZOFFSETFROM:-0500
TZOFFSETTO:-0400
TZNAME:EDT
DTSTART:20240310T070000
END:DAYLIGHT
BEGIN:STANDARD
TZOFFSETFROM:-0400
TZOFFSETTO:-0500
TZNAME:EST
DTSTART:20241103T060000
END:STANDARD
BEGIN:DAYLIGHT
TZOFFSETFROM:-0500
TZOFFSETTO:-0400
TZNAME:EDT
DTSTART:20250309T070000
END:DAYLIGHT
BEGIN:STANDARD
TZOFFSETFROM:-0400
TZOFFSETTO:-0500
TZNAME:EST
DTSTART:20251102T060000
END:STANDARD
BEGIN:DAYLIGHT
TZOFFSETFROM:-0500
TZOFFSETTO:-0400
TZNAME:EDT
DTSTART:20260308T070000
END:DAYLIGHT
BEGIN:STANDARD
TZOFFSETFROM:-0400
TZOFFSETTO:-0500
TZNAME:EST
DTSTART:20261101T060000
END:STANDARD
END:VTIMEZONE
BEGIN:VEVENT
DTSTART;TZID=America/New_York:20250702T190000
DTEND;TZID=America/New_York:20250702T190000
DTSTAMP:20260424T071418
CREATED:20220607T173744Z
LAST-MODIFIED:20250515T155130Z
UID:25453-1751482800-1751482800@hudsonvalleyskiclub.org
SUMMARY:Club Meeting
DESCRIPTION:club meeting @ American Legion
URL:https://hudsonvalleyskiclub.org/event/club-meeting-6/
LOCATION:American Legion\, Overlook Rd\, Arlington\, NY\, 12603\, United States
CATEGORIES:Meeting
END:VEVENT
BEGIN:VEVENT
DTSTART;TZID=America/New_York:20250704T173000
DTEND;TZID=America/New_York:20250704T173000
DTSTAMP:20260424T071418
CREATED:20210802T152810Z
LAST-MODIFIED:20250628T162110Z
UID:24208-1751650200-1751650200@hudsonvalleyskiclub.org
SUMMARY:Race Training - Millbrook Vineyards
DESCRIPTION:Millbrook Vineyards – 26 Wing Rd\, Millbrook\nbring a chair to sit on lawn\, food trucks available but bring snacks\nno outside alcohol – must purchase from Winery
URL:https://hudsonvalleyskiclub.org/event/race-training-millbrook-vineyards-5/
LOCATION:Millbrook Vineyards\, 26 Wing Rd\, Millbrook\, NY\, United States
CATEGORIES:Race Training
ORGANIZER;CN="Susan Kokosa":MAILTO:race_training-at-hudsonvalleyskiclub.org
END:VEVENT
BEGIN:VEVENT
DTSTART;TZID=America/New_York:20250709T093000
DTEND;TZID=America/New_York:20250709T093000
DTSTAMP:20260424T071418
CREATED:20210819T151131Z
LAST-MODIFIED:20250624T231924Z
UID:24278-1752053400-1752053400@hudsonvalleyskiclub.org
SUMMARY:Kayak - RamsHorn-Livingston Sanctuary\, Catskill
DESCRIPTION:Dutchman’s Landing Park in Catskill\, launch 10am\, (be there at least a half hour before)\ndestination RamsHorn Livingston Sanctuary. \nAs usual – bring sun screen\, snacks\, drinks\, any other clothing you may want\,\na life jacket (must be worn)\, kayak or canoe\, and paddle. Rain cancels. \nAny questions\, call Yvonne home: 845-481-2898\, cell: 845-417-7144\, yab1946@gmail.com
URL:https://hudsonvalleyskiclub.org/event/kayak-catskill-ramshorn/
LOCATION:Dutchmans Landing Park\, Dutchman's Landing\, Catskill\, NY\, 12414\, United States
CATEGORIES:Kayaking
ORGANIZER;CN="Yvonne Baker":MAILTO:yab1946@gmail.com
END:VEVENT
BEGIN:VEVENT
DTSTART;TZID=America/New_York:20250711T173000
DTEND;TZID=America/New_York:20250711T173000
DTSTAMP:20260424T071418
CREATED:20210606T214427Z
LAST-MODIFIED:20250628T162929Z
UID:23949-1752255000-1752255000@hudsonvalleyskiclub.org
SUMMARY:Race Training - Millbrook Vineyards
DESCRIPTION:TGIF “Race Training” Millbrook Vineyards & WInery \nBring your own chair\, blanket\, snacks. Must purchase wine there if you want to drink (no outside alcohol).\nFood Trucks available.\nIf inclement weather\, check our Facebook Group site for updates. 
URL:https://hudsonvalleyskiclub.org/event/race-training-millbrook-vineyards/
LOCATION:Millbrook Vineyards\, 26 Wing Rd\, Millbrook\, NY\, United States
CATEGORIES:Race Training
ORGANIZER;CN="Susan Kokosa":MAILTO:race_training-at-hudsonvalleyskiclub.org
END:VEVENT
BEGIN:VEVENT
DTSTART;TZID=America/New_York:20250718T173000
DTEND;TZID=America/New_York:20250718T173000
DTSTAMP:20260424T071418
CREATED:20250628T161054Z
LAST-MODIFIED:20250628T161913Z
UID:29792-1752859800-1752859800@hudsonvalleyskiclub.org
SUMMARY:Race Training - Millbrook Vineyards
DESCRIPTION:Millbrook Vineyards – 26 Wing Rd\, Millbrook\nbring a chair to sit on lawn\, food trucks available but bring snacks\nno outside alcohol – must purchase from Winery
URL:https://hudsonvalleyskiclub.org/event/race-training-millbrook-vineyards-9/
LOCATION:Millbrook Vineyards\, 26 Wing Rd\, Millbrook\, NY\, United States
CATEGORIES:Race Training
ORGANIZER;CN="Susan Kokosa":MAILTO:race_training-at-hudsonvalleyskiclub.org
END:VEVENT
BEGIN:VEVENT
DTSTART;TZID=America/New_York:20250725T173000
DTEND;TZID=America/New_York:20250725T173000
DTSTAMP:20260424T071418
CREATED:20250628T160918Z
LAST-MODIFIED:20250628T161948Z
UID:29790-1753464600-1753464600@hudsonvalleyskiclub.org
SUMMARY:Race Training - Millbrook Vineyards
DESCRIPTION:Millbrook Vineyards – 26 Wing Rd\, Millbrook\nbring a chair to sit on lawn\, food trucks available but bring snacks\nno outside alcohol – must purchase from Winery
URL:https://hudsonvalleyskiclub.org/event/race-training-millbrook-vineyards-8/
LOCATION:Millbrook Vineyards\, 26 Wing Rd\, Millbrook\, NY\, United States
CATEGORIES:Race Training
ORGANIZER;CN="Susan Kokosa":MAILTO:race_training-at-hudsonvalleyskiclub.org
END:VEVENT
BEGIN:VEVENT
DTSTART;TZID=America/New_York:20250730T093000
DTEND;TZID=America/New_York:20250730T093000
DTSTAMP:20260424T071418
CREATED:20250316T184815Z
LAST-MODIFIED:20250317T172559Z
UID:29021-1753867800-1753867800@hudsonvalleyskiclub.org
SUMMARY:Kayak - Norrie Point\, Staatsburg
DESCRIPTION:Kayak Norrie Point\, Staatsburg \nLaunch 10am be there at least by 9:30am  \nAny questions\, contact Yvonne Baker
URL:https://hudsonvalleyskiclub.org/event/kayak-norrie-point-staatsburg/
LOCATION:Norrie Point Environmental Center\, Norrie Point Environmental Center - State Park\, Margaret Norrie State Park\, Staatsburg\, NY 12580\, Stattsburg\, new york\, 12580
CATEGORIES:Kayaking
ORGANIZER;CN="Yvonne Baker":MAILTO:yab1946@gmail.com
END:VEVENT
END:VCALENDAR