BEGIN:VCALENDAR
VERSION:2.0
PRODID:-//Hudson Valley Ski Club, Inc. - ECPv6.15.20//NONSGML v1.0//EN
CALSCALE:GREGORIAN
METHOD:PUBLISH
X-WR-CALNAME:Hudson Valley Ski Club, Inc.
X-ORIGINAL-URL:https://hudsonvalleyskiclub.org
X-WR-CALDESC:Events for Hudson Valley Ski Club, Inc.
REFRESH-INTERVAL;VALUE=DURATION:PT1H
X-Robots-Tag:noindex
X-PUBLISHED-TTL:PT1H
BEGIN:VTIMEZONE
TZID:America/New_York
BEGIN:DAYLIGHT
TZOFFSETFROM:-0500
TZOFFSETTO:-0400
TZNAME:EDT
DTSTART:20240310T070000
END:DAYLIGHT
BEGIN:STANDARD
TZOFFSETFROM:-0400
TZOFFSETTO:-0500
TZNAME:EST
DTSTART:20241103T060000
END:STANDARD
BEGIN:DAYLIGHT
TZOFFSETFROM:-0500
TZOFFSETTO:-0400
TZNAME:EDT
DTSTART:20250309T070000
END:DAYLIGHT
BEGIN:STANDARD
TZOFFSETFROM:-0400
TZOFFSETTO:-0500
TZNAME:EST
DTSTART:20251102T060000
END:STANDARD
BEGIN:DAYLIGHT
TZOFFSETFROM:-0500
TZOFFSETTO:-0400
TZNAME:EDT
DTSTART:20260308T070000
END:DAYLIGHT
BEGIN:STANDARD
TZOFFSETFROM:-0400
TZOFFSETTO:-0500
TZNAME:EST
DTSTART:20261101T060000
END:STANDARD
END:VTIMEZONE
BEGIN:VEVENT
DTSTART;TZID=America/New_York:20250402T190000
DTEND;TZID=America/New_York:20250402T190000
DTSTAMP:20260422T093114
CREATED:20220103T175554Z
LAST-MODIFIED:20250316T162436Z
UID:24711-1743620400-1743620400@hudsonvalleyskiclub.org
SUMMARY:Club Meeting - Kayaking presentation
DESCRIPTION:At our April 2 Member meeting\,  Yvonne Baker and Skip Alford will give a presentation on local kayaking  and provide info on equipment\, basic skills\, and answer any questions that you might have. 7:00pm Wednesday\, April 2nd at American Legion 55 Overlook Rd.
URL:https://hudsonvalleyskiclub.org/event/club-meeting-4/
LOCATION:American Legion\, Overlook Rd\, Arlington\, NY\, 12603\, United States
CATEGORIES:Meeting
END:VEVENT
BEGIN:VEVENT
DTSTART;TZID=America/New_York:20250404T173000
DTEND;TZID=America/New_York:20250404T173000
DTSTAMP:20260422T093114
CREATED:20250330T224500Z
LAST-MODIFIED:20250330T224813Z
UID:29081-1743787800-1743787800@hudsonvalleyskiclub.org
SUMMARY:Race Training - Paula's Runway Cafe
DESCRIPTION:“Race Training” TGIF – Paula’s Runway Cafe\nat “Hudson Valley Regional Airport” (Dutchess County Airport\, Wappingers). 
URL:https://hudsonvalleyskiclub.org/event/race-training-paulas-runway-cafe-4/
LOCATION:Paula’s Runway Cafe\, 263 New Hackensack Rd\, Wappingers Falls\, New York\, 12590\, United States
CATEGORIES:Race Training
ORGANIZER;CN="Susan Kokosa":MAILTO:race_training-at-hudsonvalleyskiclub.org
END:VEVENT
BEGIN:VEVENT
DTSTART;TZID=America/New_York:20250411T173000
DTEND;TZID=America/New_York:20250411T173000
DTSTAMP:20260422T093114
CREATED:20250330T225028Z
LAST-MODIFIED:20250330T225040Z
UID:29083-1744392600-1744392600@hudsonvalleyskiclub.org
SUMMARY:Race Training - La Catrina
DESCRIPTION:TGIF “Race Training”\nLa Catrina\, Rt-9 Hyde Park (where Hyde Park Brewing once was)
URL:https://hudsonvalleyskiclub.org/event/race-training-la-catrina-3/
LOCATION:La Catrina\, 4076 Albany Post Rd\, Hyde Park\, NY\, United States
CATEGORIES:Race Training
ORGANIZER;CN="Susan Kokosa":MAILTO:race_training-at-hudsonvalleyskiclub.org
END:VEVENT
BEGIN:VEVENT
DTSTART;TZID=America/New_York:20250425T173000
DTEND;TZID=America/New_York:20250425T173000
DTSTAMP:20260422T093114
CREATED:20221203T190441Z
LAST-MODIFIED:20250330T225306Z
UID:26097-1745602200-1745602200@hudsonvalleyskiclub.org
SUMMARY:Race Training - Patsy's Pizzeria
DESCRIPTION:TGIF “Race Training”\nPatsy’s Pizzeria\n2657 East Main St; Wappingers Falls
URL:https://hudsonvalleyskiclub.org/event/race-training-patsys-pizzeria/
LOCATION:Patsy’s Pizzeria\, 2657 East Main St\, Wappingers Falls\, NY\, United States
CATEGORIES:Race Training
ORGANIZER;CN="Susan Kokosa":MAILTO:race_training-at-hudsonvalleyskiclub.org
END:VEVENT
BEGIN:VEVENT
DTSTART;VALUE=DATE:20250426
DTEND;VALUE=DATE:20250427
DTSTAMP:20260422T093114
CREATED:20250103T203659Z
LAST-MODIFIED:20250316T162654Z
UID:28829-1745625600-1745711999@hudsonvalleyskiclub.org
SUMMARY:Wappingers Creek Water Derby
DESCRIPTION:Kayak/canoe from Pleasant Valley to Red Oaks Mill.  Sponsored by local Veteran’s Sportsmans club and Scuba Diving club.  See our Activities tab for more details. 
URL:https://hudsonvalleyskiclub.org/event/wappingers-creek-water-derby-2/
END:VEVENT
END:VCALENDAR