BEGIN:VCALENDAR
VERSION:2.0
PRODID:-//Hudson Valley Ski Club, Inc. - ECPv6.15.20//NONSGML v1.0//EN
CALSCALE:GREGORIAN
METHOD:PUBLISH
X-ORIGINAL-URL:https://hudsonvalleyskiclub.org
X-WR-CALDESC:Events for Hudson Valley Ski Club, Inc.
REFRESH-INTERVAL;VALUE=DURATION:PT1H
X-Robots-Tag:noindex
X-PUBLISHED-TTL:PT1H
BEGIN:VTIMEZONE
TZID:America/New_York
BEGIN:DAYLIGHT
TZOFFSETFROM:-0500
TZOFFSETTO:-0400
TZNAME:EDT
DTSTART:20240310T070000
END:DAYLIGHT
BEGIN:STANDARD
TZOFFSETFROM:-0400
TZOFFSETTO:-0500
TZNAME:EST
DTSTART:20241103T060000
END:STANDARD
BEGIN:DAYLIGHT
TZOFFSETFROM:-0500
TZOFFSETTO:-0400
TZNAME:EDT
DTSTART:20250309T070000
END:DAYLIGHT
BEGIN:STANDARD
TZOFFSETFROM:-0400
TZOFFSETTO:-0500
TZNAME:EST
DTSTART:20251102T060000
END:STANDARD
BEGIN:DAYLIGHT
TZOFFSETFROM:-0500
TZOFFSETTO:-0400
TZNAME:EDT
DTSTART:20260308T070000
END:DAYLIGHT
BEGIN:STANDARD
TZOFFSETFROM:-0400
TZOFFSETTO:-0500
TZNAME:EST
DTSTART:20261101T060000
END:STANDARD
END:VTIMEZONE
BEGIN:VEVENT
DTSTART;VALUE=DATE:20250125
DTEND;VALUE=DATE:20250202
DTSTAMP:20260422T062515
CREATED:20240704T031739Z
LAST-MODIFIED:20240704T032931Z
UID:28411-1737763200-1738454399@hudsonvalleyskiclub.org
SUMMARY:Ski - Mammoth Mtn\, CA
DESCRIPTION:Week long fly-away trip to Mammoth Mountain in California.  We’re staying in the ski-out/ski-in Mammoth Mountain Lodge. \nSee “Ski Trips 2025” website page for details. 
URL:https://hudsonvalleyskiclub.org/event/ski-mammoth-mtn-ca/
CATEGORIES:Ski Trip
END:VEVENT
BEGIN:VEVENT
DTSTART;TZID=America/New_York:20250205T190000
DTEND;TZID=America/New_York:20250205T190000
DTSTAMP:20260422T062515
CREATED:20220825T205140Z
LAST-MODIFIED:20241228T144909Z
UID:25723-1738782000-1738782000@hudsonvalleyskiclub.org
SUMMARY:Club Meeting
DESCRIPTION:Club meeting at American Legion\, Overlook Rd at Old Degarmo Rd.
URL:https://hudsonvalleyskiclub.org/event/club-meeting-11/
LOCATION:American Legion\, Overlook Rd\, Arlington\, NY\, 12603\, United States
CATEGORIES:Meeting
END:VEVENT
BEGIN:VEVENT
DTSTART;TZID=America/New_York:20250207T183000
DTEND;TZID=America/New_York:20250207T183000
DTSTAMP:20260422T062515
CREATED:20230618T160224Z
LAST-MODIFIED:20250205T182150Z
UID:26947-1738953000-1738953000@hudsonvalleyskiclub.org
SUMMARY:TGIF CHANGE - now Daddy O's
DESCRIPTION:TGIF “Race Training” moved to Daddy O’s Rt 82 Main St Hopewell Jct (on Rail Trail). \n6:30pm after funeral services for Gwn Cardarelli.  \n(moved from La Catrina\, Rt-9 Hyde Park)
URL:https://hudsonvalleyskiclub.org/event/race-training-la-catrina/
LOCATION:Daddy O’s\, 3 Turner St\, Hopewell Junction\, NY\, 12533
CATEGORIES:Race Training
ORGANIZER;CN="Susan Kokosa":MAILTO:race_training-at-hudsonvalleyskiclub.org
END:VEVENT
BEGIN:VEVENT
DTSTART;VALUE=DATE:20250209
DTEND;VALUE=DATE:20250215
DTSTAMP:20260422T062515
CREATED:20240704T032121Z
LAST-MODIFIED:20240704T032121Z
UID:28413-1739059200-1739577599@hudsonvalleyskiclub.org
SUMMARY:Ski - Mont Tremblant\, Quebec
DESCRIPTION:Drive-to trip to Mont Tremblant in Quebec.  Five nights (sunday – Thursday) at Sommet des Neiges.  \nSee “Ski Trips 2025” website page for details. 
URL:https://hudsonvalleyskiclub.org/event/ski-mont-tremblant-quebec/
CATEGORIES:Ski Trip
END:VEVENT
BEGIN:VEVENT
DTSTART;TZID=America/New_York:20250221T173000
DTEND;TZID=America/New_York:20250221T173000
DTSTAMP:20260422T062515
CREATED:20220802T003145Z
LAST-MODIFIED:20250221T202705Z
UID:25629-1740159000-1740159000@hudsonvalleyskiclub.org
SUMMARY:Race Training - Maya Cafe
DESCRIPTION:TGIF “Race Training” – Maya Cafe 448 Route 9 Fishkill
URL:https://hudsonvalleyskiclub.org/event/race-training-la-puerta-azul-3/
LOCATION:maya cafe\, 449 us-9\, fishkill\, new york\, 12524
CATEGORIES:Race Training
ORGANIZER;CN="Susan Kokosa":MAILTO:race_training-at-hudsonvalleyskiclub.org
END:VEVENT
BEGIN:VEVENT
DTSTART;VALUE=DATE:20250223
DTEND;VALUE=DATE:20250224
DTSTAMP:20260422T062515
CREATED:20250207T215505Z
LAST-MODIFIED:20250207T215601Z
UID:28961-1740268800-1740355199@hudsonvalleyskiclub.org
SUMMARY:Ski - Holiday Mountain
DESCRIPTION:Ski with your Grandkids.  Contact Jay Brenner for details.
URL:https://hudsonvalleyskiclub.org/event/ski-holiday-mountain/
LOCATION:Holiday Mountain\, 99 Holiday Mountain Road\, Monticello\, NY\, 12701
CATEGORIES:Ski Trip
ORGANIZER;CN="Jay Brenner":MAILTO:jay@brennerphoto.com
END:VEVENT
BEGIN:VEVENT
DTSTART;VALUE=DATE:20250224
DTEND;VALUE=DATE:20250301
DTSTAMP:20260422T062515
CREATED:20240704T032447Z
LAST-MODIFIED:20240704T032447Z
UID:28415-1740355200-1740787199@hudsonvalleyskiclub.org
SUMMARY:Ski - Whiteface\, NY
DESCRIPTION:Stay at High Peaks Resort in Lake Placid for 3 or 4 nights: Monday (optional)\, Tuesday\, Wednesday\, Thursday.  Ski Whiteface or Gore.\nSee “Ski Trips 2025” website page for details. 
URL:https://hudsonvalleyskiclub.org/event/ski-whiteface-ny/
CATEGORIES:Ski Trip
END:VEVENT
END:VCALENDAR