BEGIN:VCALENDAR
VERSION:2.0
PRODID:-//Hudson Valley Ski Club, Inc. - ECPv6.15.20//NONSGML v1.0//EN
CALSCALE:GREGORIAN
METHOD:PUBLISH
X-WR-CALNAME:Hudson Valley Ski Club, Inc.
X-ORIGINAL-URL:https://hudsonvalleyskiclub.org
X-WR-CALDESC:Events for Hudson Valley Ski Club, Inc.
REFRESH-INTERVAL;VALUE=DURATION:PT1H
X-Robots-Tag:noindex
X-PUBLISHED-TTL:PT1H
BEGIN:VTIMEZONE
TZID:America/New_York
BEGIN:DAYLIGHT
TZOFFSETFROM:-0500
TZOFFSETTO:-0400
TZNAME:EDT
DTSTART:20230312T070000
END:DAYLIGHT
BEGIN:STANDARD
TZOFFSETFROM:-0400
TZOFFSETTO:-0500
TZNAME:EST
DTSTART:20231105T060000
END:STANDARD
BEGIN:DAYLIGHT
TZOFFSETFROM:-0500
TZOFFSETTO:-0400
TZNAME:EDT
DTSTART:20240310T070000
END:DAYLIGHT
BEGIN:STANDARD
TZOFFSETFROM:-0400
TZOFFSETTO:-0500
TZNAME:EST
DTSTART:20241103T060000
END:STANDARD
BEGIN:DAYLIGHT
TZOFFSETFROM:-0500
TZOFFSETTO:-0400
TZNAME:EDT
DTSTART:20250309T070000
END:DAYLIGHT
BEGIN:STANDARD
TZOFFSETFROM:-0400
TZOFFSETTO:-0500
TZNAME:EST
DTSTART:20251102T060000
END:STANDARD
END:VTIMEZONE
BEGIN:VEVENT
DTSTART;TZID=America/New_York:20240607T170000
DTEND;TZID=America/New_York:20240607T170000
DTSTAMP:20260422T083417
CREATED:20240525T153857Z
LAST-MODIFIED:20240525T155152Z
UID:28277-1717779600-1717779600@hudsonvalleyskiclub.org
SUMMARY:TGIF - Sky View Rest. Kgn
DESCRIPTION:Joint “Race Training”/TGIF with Trailsweepers
URL:https://hudsonvalleyskiclub.org/event/tgif-w-trailsweepers/
LOCATION:Sky View Mexican Restaurant\, 237 Forest Hill Dr\, Kingston\, NY\, 12401\, United States
CATEGORIES:Race Training
ORGANIZER;CN="Susan Kokosa":MAILTO:race_training-at-hudsonvalleyskiclub.org
END:VEVENT
BEGIN:VEVENT
DTSTART;TZID=America/New_York:20240609T140000
DTEND;TZID=America/New_York:20240609T170000
DTSTAMP:20260422T083417
CREATED:20220428T164500Z
LAST-MODIFIED:20240417T155308Z
UID:25135-1717941600-1717952400@hudsonvalleyskiclub.org
SUMMARY:Picnic Meeting
DESCRIPTION:Our June club meeting will be a Picnic meeting Sunday June 9 from 2-5pm at the American Legion.\nHamburgers\, hot dogs\, sausage & peppers\, salads\, non-alcoholic drinks. (Cash bar available.)\nFree to Club Members\, Guests pay $10. \nPlease RSVP by June 5 so we can get a head count.\nPatrick Cummins\, 845-519-7585\, pecummins22@gmail.com
URL:https://hudsonvalleyskiclub.org/event/picnic-meeting/
LOCATION:American Legion\, Overlook Rd\, Arlington\, NY\, 12603\, United States
CATEGORIES:Meeting
ORGANIZER;CN="Patrick Cummins":MAILTO:pecummins22@gmail.com
END:VEVENT
BEGIN:VEVENT
DTSTART;TZID=America/New_York:20240621T170000
DTEND;TZID=America/New_York:20240621T170000
DTSTAMP:20260422T083417
CREATED:20230123T193915Z
LAST-MODIFIED:20240525T154446Z
UID:26212-1718989200-1718989200@hudsonvalleyskiclub.org
SUMMARY:Race Training - La Puerta Azul
DESCRIPTION:TGIF “Race Training” – La Puerta Azul\, Rt-44 near Millbrook
URL:https://hudsonvalleyskiclub.org/event/race-training-la-puerta-azul-4/
LOCATION:La Puerta Azul\, 2510 US-44\, Millbrook\, NY\, 12545
CATEGORIES:Race Training
ORGANIZER;CN="Susan Kokosa":MAILTO:race_training-at-hudsonvalleyskiclub.org
END:VEVENT
BEGIN:VEVENT
DTSTART;TZID=America/New_York:20240628T173000
DTEND;TZID=America/New_York:20240628T173000
DTSTAMP:20260422T083417
CREATED:20220428T171111Z
LAST-MODIFIED:20250623T221628Z
UID:25146-1719595800-1719595800@hudsonvalleyskiclub.org
SUMMARY:Shakespeare Festival
DESCRIPTION:The Play is “By the Queen” which is adapted from William Shakespeare’s Henry the 6th and Richard the 3rd.\nWe will first meet at my house for cocktails and shared food and then off to the theater.\nThe date of the Play is June 28th\, starting at 7:30pm. Cutoff date for this is June 17th.
URL:https://hudsonvalleyskiclub.org/event/shakespeare-festival/
LOCATION:Shakespeare Festival\, 2015 US-9\, Garrison\, NY\, 10524\, United States
CATEGORIES:Event
ORGANIZER;CN="Jay Brenner":MAILTO:jay@brennerphoto.com
END:VEVENT
END:VCALENDAR