BEGIN:VCALENDAR
VERSION:2.0
PRODID:-//Hudson Valley Ski Club, Inc. - ECPv6.15.20//NONSGML v1.0//EN
CALSCALE:GREGORIAN
METHOD:PUBLISH
X-WR-CALNAME:Hudson Valley Ski Club, Inc.
X-ORIGINAL-URL:https://hudsonvalleyskiclub.org
X-WR-CALDESC:Events for Hudson Valley Ski Club, Inc.
REFRESH-INTERVAL;VALUE=DURATION:PT1H
X-Robots-Tag:noindex
X-PUBLISHED-TTL:PT1H
BEGIN:VTIMEZONE
TZID:America/New_York
BEGIN:DAYLIGHT
TZOFFSETFROM:-0500
TZOFFSETTO:-0400
TZNAME:EDT
DTSTART:20230312T070000
END:DAYLIGHT
BEGIN:STANDARD
TZOFFSETFROM:-0400
TZOFFSETTO:-0500
TZNAME:EST
DTSTART:20231105T060000
END:STANDARD
BEGIN:DAYLIGHT
TZOFFSETFROM:-0500
TZOFFSETTO:-0400
TZNAME:EDT
DTSTART:20240310T070000
END:DAYLIGHT
BEGIN:STANDARD
TZOFFSETFROM:-0400
TZOFFSETTO:-0500
TZNAME:EST
DTSTART:20241103T060000
END:STANDARD
BEGIN:DAYLIGHT
TZOFFSETFROM:-0500
TZOFFSETTO:-0400
TZNAME:EDT
DTSTART:20250309T070000
END:DAYLIGHT
BEGIN:STANDARD
TZOFFSETFROM:-0400
TZOFFSETTO:-0500
TZNAME:EST
DTSTART:20251102T060000
END:STANDARD
END:VTIMEZONE
BEGIN:VEVENT
DTSTART;TZID=America/New_York:20240501T193000
DTEND;TZID=America/New_York:20240501T193000
DTSTAMP:20260422T100955
CREATED:20240110T194105Z
LAST-MODIFIED:20240411T195716Z
UID:27575-1714591800-1714591800@hudsonvalleyskiclub.org
SUMMARY:HVSC Meeting
DESCRIPTION:regular HVSC member meeting at American Legion
URL:https://hudsonvalleyskiclub.org/event/no-meeting-2/
LOCATION:American Legion\, Overlook Rd\, Arlington\, NY\, 12603\, United States
CATEGORIES:Meeting
END:VEVENT
BEGIN:VEVENT
DTSTART;TZID=America/New_York:20240503T170000
DTEND;TZID=America/New_York:20240503T170000
DTSTAMP:20260422T100955
CREATED:20240428T164411Z
LAST-MODIFIED:20240428T164436Z
UID:28140-1714755600-1714755600@hudsonvalleyskiclub.org
SUMMARY:Race Training - Station Grille
DESCRIPTION:TGIF Race Training – Station Grille Rt 55 Beekman
URL:https://hudsonvalleyskiclub.org/event/race-training-station-grille/
LOCATION:Station Grille\, 2578 State Rte 55\, beekman\, NY\, 12570
CATEGORIES:Race Training
ORGANIZER;CN="Susan Kokosa":MAILTO:race_training-at-hudsonvalleyskiclub.org
END:VEVENT
BEGIN:VEVENT
DTSTART;TZID=America/New_York:20240504T093000
DTEND;TZID=America/New_York:20240504T113000
DTSTAMP:20260422T100955
CREATED:20220403T011656Z
LAST-MODIFIED:20240422T012341Z
UID:25000-1714815000-1714822200@hudsonvalleyskiclub.org
SUMMARY:Rail Trail Cleanup
DESCRIPTION:meet at Dutchess Rail Trail parking lot behind Page Lumber to help pick up litter on the section that HVSC sponsors\nlet Keith know you are coming: krfauch@optonline.net
URL:https://hudsonvalleyskiclub.org/event/rail-trail-cleanup-3/
LOCATION:Rt.55 Rail Trail\, Old Manchester Road\, Poughkeepsie\, ny\, 12603\, United States
ORGANIZER;CN="Keith Faucher":MAILTO:krfaucher@optonline.net
END:VEVENT
BEGIN:VEVENT
DTSTART;TZID=America/New_York:20240510T170000
DTEND;TZID=America/New_York:20240510T170000
DTSTAMP:20260422T100955
CREATED:20240428T164723Z
LAST-MODIFIED:20240428T164803Z
UID:28144-1715360400-1715360400@hudsonvalleyskiclub.org
SUMMARY:Race Training - Vulajio's
DESCRIPTION:TGIF “Race Training” – Vulajio’s 2593 Rt 52 Hopewell Jct
URL:https://hudsonvalleyskiclub.org/event/race-training-vulajios-2/
LOCATION:Vulajio’s\, 2593 Rt 52\, Hopewell Junction\, NY\, United States
CATEGORIES:Race Training
ORGANIZER;CN="Susan Kokosa":MAILTO:race_training-at-hudsonvalleyskiclub.org
END:VEVENT
BEGIN:VEVENT
DTSTART;TZID=America/New_York:20240531T170000
DTEND;TZID=America/New_York:20240531T170000
DTSTAMP:20260422T100955
CREATED:20220103T173919Z
LAST-MODIFIED:20240428T165127Z
UID:24700-1717174800-1717174800@hudsonvalleyskiclub.org
SUMMARY:Race Training - La Catrina
DESCRIPTION:TGIF “Race Training”\nLa Catrina\, Rt-9 Hyde Park (where Hyde Park Brewing once was)
URL:https://hudsonvalleyskiclub.org/event/race-training-hyde-park-brewing-3/
LOCATION:La Catrina\, 4076 Albany Post Rd\, Hyde Park\, NY\, United States
CATEGORIES:Race Training
ORGANIZER;CN="Susan Kokosa":MAILTO:race_training-at-hudsonvalleyskiclub.org
END:VEVENT
END:VCALENDAR