BEGIN:VCALENDAR
VERSION:2.0
PRODID:-//Hudson Valley Ski Club, Inc. - ECPv6.15.20//NONSGML v1.0//EN
CALSCALE:GREGORIAN
METHOD:PUBLISH
X-ORIGINAL-URL:https://hudsonvalleyskiclub.org
X-WR-CALDESC:Events for Hudson Valley Ski Club, Inc.
REFRESH-INTERVAL;VALUE=DURATION:PT1H
X-Robots-Tag:noindex
X-PUBLISHED-TTL:PT1H
BEGIN:VTIMEZONE
TZID:America/New_York
BEGIN:DAYLIGHT
TZOFFSETFROM:-0500
TZOFFSETTO:-0400
TZNAME:EDT
DTSTART:20230312T070000
END:DAYLIGHT
BEGIN:STANDARD
TZOFFSETFROM:-0400
TZOFFSETTO:-0500
TZNAME:EST
DTSTART:20231105T060000
END:STANDARD
BEGIN:DAYLIGHT
TZOFFSETFROM:-0500
TZOFFSETTO:-0400
TZNAME:EDT
DTSTART:20240310T070000
END:DAYLIGHT
BEGIN:STANDARD
TZOFFSETFROM:-0400
TZOFFSETTO:-0500
TZNAME:EST
DTSTART:20241103T060000
END:STANDARD
BEGIN:DAYLIGHT
TZOFFSETFROM:-0500
TZOFFSETTO:-0400
TZNAME:EDT
DTSTART:20250309T070000
END:DAYLIGHT
BEGIN:STANDARD
TZOFFSETFROM:-0400
TZOFFSETTO:-0500
TZNAME:EST
DTSTART:20251102T060000
END:STANDARD
END:VTIMEZONE
BEGIN:VEVENT
DTSTART;VALUE=DATE:20240302
DTEND;VALUE=DATE:20240310
DTSTAMP:20260422T130130
CREATED:20230723T215705Z
LAST-MODIFIED:20230723T215705Z
UID:27107-1709337600-1710028799@hudsonvalleyskiclub.org
SUMMARY:Ski - Telluride
DESCRIPTION:Telluride trip details in Ski Trips section of this website.
URL:https://hudsonvalleyskiclub.org/event/ski-telluride/
CATEGORIES:Ski Trip
ORGANIZER;CN="Charlie Shanes":MAILTO:level3a@hotmail.com
END:VEVENT
BEGIN:VEVENT
DTSTART;VALUE=DATE:20240312
DTEND;VALUE=DATE:20240316
DTSTAMP:20260422T130130
CREATED:20230723T215249Z
LAST-MODIFIED:20230723T215249Z
UID:27103-1710201600-1710547199@hudsonvalleyskiclub.org
SUMMARY:Ski - Gore Mtn
DESCRIPTION:3-4 nights Lodging at Comfort Inn\, Lake George\, Drive to mountain\, Continental breakfast\, Lift tickets purchased through trip leader or use Ski3 Pass\,\nContact trip leader\, Jay Brenner for more information.
URL:https://hudsonvalleyskiclub.org/event/ski-gore-mtn/
CATEGORIES:Ski Trip
ORGANIZER;CN="Jay Brenner":MAILTO:jay@brennerphoto.com
END:VEVENT
BEGIN:VEVENT
DTSTART;TZID=America/New_York:20240320T193000
DTEND;TZID=America/New_York:20240320T193000
DTSTAMP:20260422T130130
CREATED:20220628T173819Z
LAST-MODIFIED:20240110T193956Z
UID:25520-1710963000-1710963000@hudsonvalleyskiclub.org
SUMMARY:Club Meeting
DESCRIPTION:March Member meeting moved from March 6 to March 20 to avoid conflicts with ski trips.\nConstitiution By-Laws changes will be voted on.  Please attend!\nMeeting at American Legion.
URL:https://hudsonvalleyskiclub.org/event/club-meeting-7/
LOCATION:American Legion\, Overlook Rd\, Arlington\, NY\, 12603\, United States
CATEGORIES:Meeting
END:VEVENT
END:VCALENDAR