BEGIN:VCALENDAR
VERSION:2.0
PRODID:-//Hudson Valley Ski Club, Inc. - ECPv6.15.20//NONSGML v1.0//EN
CALSCALE:GREGORIAN
METHOD:PUBLISH
X-ORIGINAL-URL:https://hudsonvalleyskiclub.org
X-WR-CALDESC:Events for Hudson Valley Ski Club, Inc.
REFRESH-INTERVAL;VALUE=DURATION:PT1H
X-Robots-Tag:noindex
X-PUBLISHED-TTL:PT1H
BEGIN:VTIMEZONE
TZID:America/New_York
BEGIN:DAYLIGHT
TZOFFSETFROM:-0500
TZOFFSETTO:-0400
TZNAME:EDT
DTSTART:20230312T070000
END:DAYLIGHT
BEGIN:STANDARD
TZOFFSETFROM:-0400
TZOFFSETTO:-0500
TZNAME:EST
DTSTART:20231105T060000
END:STANDARD
BEGIN:DAYLIGHT
TZOFFSETFROM:-0500
TZOFFSETTO:-0400
TZNAME:EDT
DTSTART:20240310T070000
END:DAYLIGHT
BEGIN:STANDARD
TZOFFSETFROM:-0400
TZOFFSETTO:-0500
TZNAME:EST
DTSTART:20241103T060000
END:STANDARD
BEGIN:DAYLIGHT
TZOFFSETFROM:-0500
TZOFFSETTO:-0400
TZNAME:EDT
DTSTART:20250309T070000
END:DAYLIGHT
BEGIN:STANDARD
TZOFFSETFROM:-0400
TZOFFSETTO:-0500
TZNAME:EST
DTSTART:20251102T060000
END:STANDARD
END:VTIMEZONE
BEGIN:VEVENT
DTSTART;VALUE=DATE:20240127
DTEND;VALUE=DATE:20240204
DTSTAMP:20260422T143214
CREATED:20230723T215538Z
LAST-MODIFIED:20230723T215538Z
UID:27105-1706313600-1707004799@hudsonvalleyskiclub.org
SUMMARY:Ski - Vail CO
DESCRIPTION:Vail trip details described in Ski Trips section of this website.
URL:https://hudsonvalleyskiclub.org/event/ski-vail-co/
CATEGORIES:Ski Trip
ORGANIZER;CN="Jim Gahn":MAILTO:jimbgahn@gmail.com
END:VEVENT
BEGIN:VEVENT
DTSTART;TZID=America/New_York:20240210T090000
DTEND;TZID=America/New_York:20240210T090000
DTSTAMP:20260422T143214
CREATED:20231220T035254Z
LAST-MODIFIED:20240205T224832Z
UID:27521-1707555600-1707555600@hudsonvalleyskiclub.org
SUMMARY:Rail Trail XC ski CANCELLED
DESCRIPTION:Due to lack of snow – the DutchessParks/HVSC Cross Country ski day on Dutchess Rail Trail has been CANCELLED.
URL:https://hudsonvalleyskiclub.org/event/crosscountry-skiing-on-rail-trail/
END:VEVENT
BEGIN:VEVENT
DTSTART;VALUE=DATE:20240212
DTEND;VALUE=DATE:20240216
DTSTAMP:20260422T143214
CREATED:20230723T215113Z
LAST-MODIFIED:20230723T220012Z
UID:27100-1707696000-1708041599@hudsonvalleyskiclub.org
SUMMARY:Ski - Stowe VT
DESCRIPTION:3 nights Lodging at Green Mtn Inn Shuttle/drive to mountain\, full breakfast\n& afternoon tea/cookies included\, Lift access by EPIC pass\nContact trip leader\, Lisa McDonald for more information.
URL:https://hudsonvalleyskiclub.org/event/ski-stowe-vt/
CATEGORIES:Ski Trip
END:VEVENT
END:VCALENDAR