BEGIN:VCALENDAR
VERSION:2.0
PRODID:-//Hudson Valley Ski Club, Inc. - ECPv6.15.20//NONSGML v1.0//EN
CALSCALE:GREGORIAN
METHOD:PUBLISH
X-WR-CALNAME:Hudson Valley Ski Club, Inc.
X-ORIGINAL-URL:https://hudsonvalleyskiclub.org
X-WR-CALDESC:Events for Hudson Valley Ski Club, Inc.
REFRESH-INTERVAL;VALUE=DURATION:PT1H
X-Robots-Tag:noindex
X-PUBLISHED-TTL:PT1H
BEGIN:VTIMEZONE
TZID:America/New_York
BEGIN:DAYLIGHT
TZOFFSETFROM:-0500
TZOFFSETTO:-0400
TZNAME:EDT
DTSTART:20230312T070000
END:DAYLIGHT
BEGIN:STANDARD
TZOFFSETFROM:-0400
TZOFFSETTO:-0500
TZNAME:EST
DTSTART:20231105T060000
END:STANDARD
BEGIN:DAYLIGHT
TZOFFSETFROM:-0500
TZOFFSETTO:-0400
TZNAME:EDT
DTSTART:20240310T070000
END:DAYLIGHT
BEGIN:STANDARD
TZOFFSETFROM:-0400
TZOFFSETTO:-0500
TZNAME:EST
DTSTART:20241103T060000
END:STANDARD
BEGIN:DAYLIGHT
TZOFFSETFROM:-0500
TZOFFSETTO:-0400
TZNAME:EDT
DTSTART:20250309T070000
END:DAYLIGHT
BEGIN:STANDARD
TZOFFSETFROM:-0400
TZOFFSETTO:-0500
TZNAME:EST
DTSTART:20251102T060000
END:STANDARD
END:VTIMEZONE
BEGIN:VEVENT
DTSTART;VALUE=DATE:20240116
DTEND;VALUE=DATE:20240120
DTSTAMP:20260422T155747
CREATED:20230723T214944Z
LAST-MODIFIED:20230723T214955Z
UID:27097-1705363200-1705708799@hudsonvalleyskiclub.org
SUMMARY:Ski - Mt Snow
DESCRIPTION:3 nights Lodging at Mountaineer Inn\, Easy access to Corinthia lifts\, Lift access by EPIC pass\nContact trip leader\, Nonie Kelley for more information.
URL:https://hudsonvalleyskiclub.org/event/ski-mt-snow/
CATEGORIES:Ski Trip
END:VEVENT
BEGIN:VEVENT
DTSTART;TZID=America/New_York:20240119T170000
DTEND;TZID=America/New_York:20240119T170000
DTSTAMP:20260422T155747
CREATED:20231222T034056Z
LAST-MODIFIED:20231222T034056Z
UID:27525-1705683600-1705683600@hudsonvalleyskiclub.org
SUMMARY:Race Training - Patsy's Pizzeria
DESCRIPTION:TGIF “Race Training”\nPatsy’s Pizzeria\n2657 East Main St; Wappingers Falls
URL:https://hudsonvalleyskiclub.org/event/race-training-patsys-pizzeria-2/
LOCATION:Patsy’s Pizzeria\, 2657 East Main St\, Wappingers Falls\, NY\, United States
CATEGORIES:Race Training
ORGANIZER;CN="Susan Kokosa":MAILTO:race_training-at-hudsonvalleyskiclub.org
END:VEVENT
BEGIN:VEVENT
DTSTART;VALUE=DATE:20240127
DTEND;VALUE=DATE:20240204
DTSTAMP:20260422T155747
CREATED:20230723T215538Z
LAST-MODIFIED:20230723T215538Z
UID:27105-1706313600-1707004799@hudsonvalleyskiclub.org
SUMMARY:Ski - Vail CO
DESCRIPTION:Vail trip details described in Ski Trips section of this website.
URL:https://hudsonvalleyskiclub.org/event/ski-vail-co/
CATEGORIES:Ski Trip
ORGANIZER;CN="Jim Gahn":MAILTO:jimbgahn@gmail.com
END:VEVENT
END:VCALENDAR