BEGIN:VCALENDAR
VERSION:2.0
PRODID:-//Hudson Valley Ski Club, Inc. - ECPv6.15.20//NONSGML v1.0//EN
CALSCALE:GREGORIAN
METHOD:PUBLISH
X-ORIGINAL-URL:https://hudsonvalleyskiclub.org
X-WR-CALDESC:Events for Hudson Valley Ski Club, Inc.
REFRESH-INTERVAL;VALUE=DURATION:PT1H
X-Robots-Tag:noindex
X-PUBLISHED-TTL:PT1H
BEGIN:VTIMEZONE
TZID:America/New_York
BEGIN:DAYLIGHT
TZOFFSETFROM:-0500
TZOFFSETTO:-0400
TZNAME:EDT
DTSTART:20220313T070000
END:DAYLIGHT
BEGIN:STANDARD
TZOFFSETFROM:-0400
TZOFFSETTO:-0500
TZNAME:EST
DTSTART:20221106T060000
END:STANDARD
BEGIN:DAYLIGHT
TZOFFSETFROM:-0500
TZOFFSETTO:-0400
TZNAME:EDT
DTSTART:20230312T070000
END:DAYLIGHT
BEGIN:STANDARD
TZOFFSETFROM:-0400
TZOFFSETTO:-0500
TZNAME:EST
DTSTART:20231105T060000
END:STANDARD
BEGIN:DAYLIGHT
TZOFFSETFROM:-0500
TZOFFSETTO:-0400
TZNAME:EDT
DTSTART:20240310T070000
END:DAYLIGHT
BEGIN:STANDARD
TZOFFSETFROM:-0400
TZOFFSETTO:-0500
TZNAME:EST
DTSTART:20241103T060000
END:STANDARD
END:VTIMEZONE
BEGIN:VEVENT
DTSTART;TZID=America/New_York:20231206T190000
DTEND;TZID=America/New_York:20231206T190000
DTSTAMP:20260422T171648
CREATED:20210520T163323Z
LAST-MODIFIED:20231115T141342Z
UID:23718-1701889200-1701889200@hudsonvalleyskiclub.org
SUMMARY:Holiday Party
DESCRIPTION:Holiday Party at American Legion replacing regular member meeting.\nFood & DJ – $30 Members\, $40 Guests – Patrick needs your reservations soon so we can plan food!\nsee page 3 of November Newsletter for details\nhttps://hudsonvalleyskiclub.org/wp-content/uploads/Newsletters/HVSCNewsletter-2023-11.pdf
URL:https://hudsonvalleyskiclub.org/event/hvsc-meeting/
LOCATION:American Legion\, Overlook Rd\, Arlington\, NY\, 12603\, United States
CATEGORIES:Meeting
END:VEVENT
BEGIN:VEVENT
DTSTART;TZID=America/New_York:20231215T170000
DTEND;TZID=America/New_York:20231215T170000
DTSTAMP:20260422T171648
CREATED:20220131T151238Z
LAST-MODIFIED:20231126T184537Z
UID:24803-1702659600-1702659600@hudsonvalleyskiclub.org
SUMMARY:Race Training - Beekman Arms
DESCRIPTION:TGIF “Race Training” Beekman Arms\, 6387 Mill St\, Rhinebeck
URL:https://hudsonvalleyskiclub.org/event/race-training-beekman-arms/
LOCATION:Beekman Arms\, Route 9\, Rhinebeck\, NY\, 12572\, United States
CATEGORIES:Race Training
END:VEVENT
END:VCALENDAR