BEGIN:VCALENDAR
VERSION:2.0
PRODID:-//Hudson Valley Ski Club, Inc. - ECPv6.15.20//NONSGML v1.0//EN
CALSCALE:GREGORIAN
METHOD:PUBLISH
X-WR-CALNAME:Hudson Valley Ski Club, Inc.
X-ORIGINAL-URL:https://hudsonvalleyskiclub.org
X-WR-CALDESC:Events for Hudson Valley Ski Club, Inc.
REFRESH-INTERVAL;VALUE=DURATION:PT1H
X-Robots-Tag:noindex
X-PUBLISHED-TTL:PT1H
BEGIN:VTIMEZONE
TZID:America/New_York
BEGIN:DAYLIGHT
TZOFFSETFROM:-0500
TZOFFSETTO:-0400
TZNAME:EDT
DTSTART:20220313T070000
END:DAYLIGHT
BEGIN:STANDARD
TZOFFSETFROM:-0400
TZOFFSETTO:-0500
TZNAME:EST
DTSTART:20221106T060000
END:STANDARD
BEGIN:DAYLIGHT
TZOFFSETFROM:-0500
TZOFFSETTO:-0400
TZNAME:EDT
DTSTART:20230312T070000
END:DAYLIGHT
BEGIN:STANDARD
TZOFFSETFROM:-0400
TZOFFSETTO:-0500
TZNAME:EST
DTSTART:20231105T060000
END:STANDARD
BEGIN:DAYLIGHT
TZOFFSETFROM:-0500
TZOFFSETTO:-0400
TZNAME:EDT
DTSTART:20240310T070000
END:DAYLIGHT
BEGIN:STANDARD
TZOFFSETFROM:-0400
TZOFFSETTO:-0500
TZNAME:EST
DTSTART:20241103T060000
END:STANDARD
END:VTIMEZONE
BEGIN:VEVENT
DTSTART;TZID=America/New_York:20230805T160000
DTEND;TZID=America/New_York:20230805T190000
DTSTAMP:20260422T231022
CREATED:20220430T154848Z
LAST-MODIFIED:20240704T021103Z
UID:25211-1691251200-1691262000@hudsonvalleyskiclub.org
SUMMARY:Summer Garden Party
DESCRIPTION:A tradition since 2009\, the annual late-summer party of skiers\, riders and other snow-addicted people\, held in the garden of Frank & Lois Van Zanten\, will once again take place. \nParticipants enjoy drinks\, share food\, tell tall tales of their incredible snow experiences\, talk about the upcoming skiing and riding season … and some even take time to look at the flowers. \nWhen:  Saturday August 5\,  4 PM\nRain date the next day\, same time. \nWhere: 138 Wilbur Blvd.\, Poughkeepsie\, NY  12603. \nWhat: Potluck (Bring a Dish to Share)\, and BYOB.\nChairs\, soft drinks\, plates\, etc. provided. \nNo RSVPs\, please …. Just come!
URL:https://hudsonvalleyskiclub.org/event/summer-garden-party/
LOCATION:Frank Van Zanten’s\, 138 Wilbur Blvd\, Poughkeepsie\, NY\, 12601\, United States
CATEGORIES:Event
ORGANIZER;CN="Frank Van Zanten":MAILTO:FVZColors@aol.com
END:VEVENT
BEGIN:VEVENT
DTSTART;TZID=America/New_York:20230812T163000
DTEND;TZID=America/New_York:20230812T220000
DTSTAMP:20260422T231022
CREATED:20230515T220816Z
LAST-MODIFIED:20230620T151104Z
UID:26795-1691857800-1691877600@hudsonvalleyskiclub.org
SUMMARY:Oliver - Sharon Playhouse
DESCRIPTION:Oliver at Sharon Playhouse\nhave 20 tickets at $25\, deadline to sign up August 4\n7pm show\, meet at 4:30 at Bet’s house for pre-show gathering.\nContact Jay Brenner for info.
URL:https://hudsonvalleyskiclub.org/event/oliver-sharon-playhouse/
LOCATION:Sharon Playhouse\, 49 Amenia Road\, Sharon\, Connecticut\, 06069\, United States
CATEGORIES:Event
ORGANIZER;CN="Jay Brenner":MAILTO:jay@brennerphoto.com
END:VEVENT
END:VCALENDAR