BEGIN:VCALENDAR
VERSION:2.0
PRODID:-//Hudson Valley Ski Club, Inc. - ECPv6.15.20//NONSGML v1.0//EN
CALSCALE:GREGORIAN
METHOD:PUBLISH
X-ORIGINAL-URL:https://hudsonvalleyskiclub.org
X-WR-CALDESC:Events for Hudson Valley Ski Club, Inc.
REFRESH-INTERVAL;VALUE=DURATION:PT1H
X-Robots-Tag:noindex
X-PUBLISHED-TTL:PT1H
BEGIN:VTIMEZONE
TZID:America/New_York
BEGIN:DAYLIGHT
TZOFFSETFROM:-0500
TZOFFSETTO:-0400
TZNAME:EDT
DTSTART:20220313T070000
END:DAYLIGHT
BEGIN:STANDARD
TZOFFSETFROM:-0400
TZOFFSETTO:-0500
TZNAME:EST
DTSTART:20221106T060000
END:STANDARD
BEGIN:DAYLIGHT
TZOFFSETFROM:-0500
TZOFFSETTO:-0400
TZNAME:EDT
DTSTART:20230312T070000
END:DAYLIGHT
BEGIN:STANDARD
TZOFFSETFROM:-0400
TZOFFSETTO:-0500
TZNAME:EST
DTSTART:20231105T060000
END:STANDARD
BEGIN:DAYLIGHT
TZOFFSETFROM:-0500
TZOFFSETTO:-0400
TZNAME:EDT
DTSTART:20240310T070000
END:DAYLIGHT
BEGIN:STANDARD
TZOFFSETFROM:-0400
TZOFFSETTO:-0500
TZNAME:EST
DTSTART:20241103T060000
END:STANDARD
END:VTIMEZONE
BEGIN:VEVENT
DTSTART;TZID=America/New_York:20230708T093000
DTEND;TZID=America/New_York:20230708T093000
DTSTAMP:20260423T003339
CREATED:20230502T015921Z
LAST-MODIFIED:20230502T020033Z
UID:26689-1688808600-1688808600@hudsonvalleyskiclub.org
SUMMARY:Kayak  - Athens NY
DESCRIPTION:Kayak at Athens NY 23 S. Water St\nLaunch 10am\, be there at least a half hour before\nIt’s also the Athens Street Festival!  \nAny questions\, call Yvonne home: 845-481-2898\, cell: 845-417-7144\, yab1946@gmail.com
URL:https://hudsonvalleyskiclub.org/event/kayak-athens-ny/
LOCATION:Athens Kayak Launch\, 23 S. Water St\, Athens\, NY\, 12015\, United States
CATEGORIES:Kayaking
ORGANIZER;CN="Yvonne Baker":MAILTO:yab1946@gmail.com
END:VEVENT
BEGIN:VEVENT
DTSTART;TZID=America/New_York:20230714T173000
DTEND;TZID=America/New_York:20230714T220000
DTSTAMP:20260423T003339
CREATED:20230404T002951Z
LAST-MODIFIED:20250623T221749Z
UID:26558-1689355800-1689372000@hudsonvalleyskiclub.org
SUMMARY:Shakespeare Festival
DESCRIPTION:“Love’s Labor’s Lost” at Garrison’s Hudson Valley Shakespeare Festival\nPlay starts 7:30pm but arrive at 5:30pm for picnic on the grounds.\n$42.50 per person Last date to sign up July 5.\nContact Jay at jay@brennerphoto.com
URL:https://hudsonvalleyskiclub.org/event/shakespeare-festival-23/
LOCATION:Shakespeare Festival\, 2015 US-9\, Garrison\, NY\, 10524\, United States
CATEGORIES:Event
ORGANIZER;CN="Jay Brenner":MAILTO:jay@brennerphoto.com
END:VEVENT
BEGIN:VEVENT
DTSTART;VALUE=DATE:20230723
DTEND;VALUE=DATE:20230724
DTSTAMP:20260423T003339
CREATED:20230618T151153Z
LAST-MODIFIED:20230720T211543Z
UID:26936-1690070400-1690156799@hudsonvalleyskiclub.org
SUMMARY:Bike to Breakfast
DESCRIPTION:Join Trailsweepers biking on Ashokan Rail Trail ending with a delicious breakfast at Bread Alone’s Boiceville Cafe & Bakery.\nTwo starting points allow 10 or 25 mile bike rides.  Contact Yvonne for details.\nMoved to July 23 due to bad weather on July 9 & July 16.
URL:https://hudsonvalleyskiclub.org/event/bike-to-breakfast/
LOCATION:Ashokan Rail Trail\, 1285 NY-28\, West Hurley\, NY\, 12491\, United States
CATEGORIES:Event
ORGANIZER;CN="Yvonne Baker":MAILTO:yab1946@gmail.com
END:VEVENT
END:VCALENDAR