BEGIN:VCALENDAR
VERSION:2.0
PRODID:-//Hudson Valley Ski Club, Inc. - ECPv6.15.20//NONSGML v1.0//EN
CALSCALE:GREGORIAN
METHOD:PUBLISH
X-ORIGINAL-URL:https://hudsonvalleyskiclub.org
X-WR-CALDESC:Events for Hudson Valley Ski Club, Inc.
REFRESH-INTERVAL;VALUE=DURATION:PT1H
X-Robots-Tag:noindex
X-PUBLISHED-TTL:PT1H
BEGIN:VTIMEZONE
TZID:America/New_York
BEGIN:DAYLIGHT
TZOFFSETFROM:-0500
TZOFFSETTO:-0400
TZNAME:EDT
DTSTART:20250309T070000
END:DAYLIGHT
BEGIN:STANDARD
TZOFFSETFROM:-0400
TZOFFSETTO:-0500
TZNAME:EST
DTSTART:20251102T060000
END:STANDARD
BEGIN:DAYLIGHT
TZOFFSETFROM:-0500
TZOFFSETTO:-0400
TZNAME:EDT
DTSTART:20260308T070000
END:DAYLIGHT
BEGIN:STANDARD
TZOFFSETFROM:-0400
TZOFFSETTO:-0500
TZNAME:EST
DTSTART:20261101T060000
END:STANDARD
BEGIN:DAYLIGHT
TZOFFSETFROM:-0500
TZOFFSETTO:-0400
TZNAME:EDT
DTSTART:20270314T070000
END:DAYLIGHT
BEGIN:STANDARD
TZOFFSETFROM:-0400
TZOFFSETTO:-0500
TZNAME:EST
DTSTART:20271107T060000
END:STANDARD
END:VTIMEZONE
BEGIN:VEVENT
DTSTART;VALUE=DATE:20260203
DTEND;VALUE=DATE:20260204
DTSTAMP:20260422T182349
CREATED:20260106T002121Z
LAST-MODIFIED:20260106T002121Z
UID:30176-1770076800-1770163199@hudsonvalleyskiclub.org
SUMMARY:Instruction - Belleayre
DESCRIPTION:Contact Dan Croak  dbskiman@gmail.com  if you plan to attend. 
URL:https://hudsonvalleyskiclub.org/event/instruction-belleayre-5/
LOCATION:Belleayre\, 181 Galli Curci Rd\, Highmount\, NY\, 12441\, United States
CATEGORIES:Instruction
END:VEVENT
BEGIN:VEVENT
DTSTART;TZID=America/New_York:20260204T190000
DTEND;TZID=America/New_York:20260204T190000
DTSTAMP:20260422T182349
CREATED:20250919T175852Z
LAST-MODIFIED:20251201T140600Z
UID:29974-1770231600-1770231600@hudsonvalleyskiclub.org
SUMMARY:Member Meeting
DESCRIPTION:regular HVSC member meeting at Buffalo Wild Wings
URL:https://hudsonvalleyskiclub.org/event/member-meeting-3/
LOCATION:Buffalo Wild Wings – Wappingers Falls\, 1794 South Road\, Wappingers Falls\, New York\, 12590\, United States
CATEGORIES:Meeting
END:VEVENT
BEGIN:VEVENT
DTSTART;VALUE=DATE:20260206
DTEND;VALUE=DATE:20260207
DTSTAMP:20260422T182349
CREATED:20260108T015534Z
LAST-MODIFIED:20260117T174353Z
UID:30214-1770336000-1770422399@hudsonvalleyskiclub.org
SUMMARY:Ski Plattekill
DESCRIPTION:Plattekill Mountain in the Catskills (Roxbury NY) is hosting two Ski Club Discount Days: Friday February 6 & Sunday February 8.  HVSC members can ski Plattekill for $62 on Feb 6 and $79 on Feb 8.  \nTo receive the discount\, go to shop.plattekill.com/groups at least 48 hours in advance of the day(s) you would like to visit and purchase your tickets using the special discounted code listed below for the selected date.  Note: the link will become inactive after that point and discounted tickets will no longer be available. \nFor Friday February 6 enter code  FridaySkiClubDay2026 \nFor Sunday February 8 enter code  SundaySkiClubDay2026
URL:https://hudsonvalleyskiclub.org/event/ski-plattekill/
LOCATION:Plattekill Mountain\, 469 Plattekill Rd\, Roxbury\, 12474\, United States
CATEGORIES:Ski Trip
END:VEVENT
BEGIN:VEVENT
DTSTART;TZID=America/New_York:20260206T173000
DTEND;TZID=America/New_York:20260206T173000
DTSTAMP:20260422T182349
CREATED:20220303T021649Z
LAST-MODIFIED:20260203T190435Z
UID:24898-1770399000-1770399000@hudsonvalleyskiclub.org
SUMMARY:Race Training - di'Vine Wine Bar
DESCRIPTION:TGIF “Race Training”\ndi’Vine Wine Bar\, Main Street Wappingers Falls
URL:https://hudsonvalleyskiclub.org/event/race-training-divine-wine-bar-3/
LOCATION:di’Vine Wine Bar\, 1 Market St\, Wappingers Falls\, NY\, United States
CATEGORIES:Race Training
ORGANIZER;CN="Susan Kokosa":MAILTO:race_training-at-hudsonvalleyskiclub.org
END:VEVENT
BEGIN:VEVENT
DTSTART;VALUE=DATE:20260207
DTEND;VALUE=DATE:20260208
DTSTAMP:20260422T182349
CREATED:20260106T002224Z
LAST-MODIFIED:20260106T002224Z
UID:30178-1770422400-1770508799@hudsonvalleyskiclub.org
SUMMARY:Instruction - Belleayre
DESCRIPTION:Contact Dan Croak  dbskiman@gmail.com  if you plan to attend. 
URL:https://hudsonvalleyskiclub.org/event/instruction-belleayre-6/
LOCATION:Belleayre\, 181 Galli Curci Rd\, Highmount\, NY\, 12441\, United States
CATEGORIES:Instruction
END:VEVENT
BEGIN:VEVENT
DTSTART;VALUE=DATE:20260208
DTEND;VALUE=DATE:20260209
DTSTAMP:20260422T182349
CREATED:20260108T015732Z
LAST-MODIFIED:20260117T174239Z
UID:30217-1770508800-1770595199@hudsonvalleyskiclub.org
SUMMARY:Ski Plattekill
DESCRIPTION:Plattekill Mountain in the Catskills (Roxbury NY) is hosting two Ski Club Discount Days: Friday February 6 & Sunday February 8.  HVSC members can ski Plattekill for $62 on Feb 6 and $79 on Feb 8.  \nTo receive the discount\, go to shop.plattekill.com/groups at least 48 hours in advance of the day(s) you would like to visit and purchase your tickets using the special discounted code listed below for the selected date.  Note: the link will become inactive after that point and discounted tickets will no longer be available. \nFor Friday February 6 enter code FridaySkiClubDay2026\nFor Sunday February 8 enter code  SundaySkiClubDay2026
URL:https://hudsonvalleyskiclub.org/event/ski-plattekill-2/
CATEGORIES:Ski Trip
END:VEVENT
BEGIN:VEVENT
DTSTART;VALUE=DATE:20260209
DTEND;VALUE=DATE:20260214
DTSTAMP:20260422T182349
CREATED:20250504T015953Z
LAST-MODIFIED:20260106T004441Z
UID:29306-1770595200-1771027199@hudsonvalleyskiclub.org
SUMMARY:Ski Stowe
DESCRIPTION:4 night Stowe VT ski trip – see Ski Trips section of website for details 
URL:https://hudsonvalleyskiclub.org/event/ski-stowe/
CATEGORIES:Ski Trip
END:VEVENT
BEGIN:VEVENT
DTSTART;VALUE=DATE:20260211
DTEND;VALUE=DATE:20260212
DTSTAMP:20260422T182349
CREATED:20260106T002252Z
LAST-MODIFIED:20260205T224745Z
UID:30180-1770768000-1770854399@hudsonvalleyskiclub.org
SUMMARY:Instruction - Belleayre
DESCRIPTION:Contact Dan Croak  dbskiman@gmail.com  if you plan to attend. 
URL:https://hudsonvalleyskiclub.org/event/instruction-belleayre-7/
LOCATION:Belleayre\, 181 Galli Curci Rd\, Highmount\, NY\, 12441\, United States
CATEGORIES:Instruction
END:VEVENT
BEGIN:VEVENT
DTSTART;TZID=America/New_York:20260213T173000
DTEND;TZID=America/New_York:20260213T173000
DTSTAMP:20260422T182349
CREATED:20260203T190630Z
LAST-MODIFIED:20260203T190630Z
UID:30301-1771003800-1771003800@hudsonvalleyskiclub.org
SUMMARY:Race Training - Longobardi's
DESCRIPTION:TGIF “Race Training”  Longobardi’s restaurant \n1574 US 9 (South Rd) Wappingers Falls 
URL:https://hudsonvalleyskiclub.org/event/race-training-longobardis-2/
LOCATION:Longobardi Restaurant\, 1574 US 9\, Wappingers Falls\, NY\, 12590\, United States
CATEGORIES:Race Training
ORGANIZER;CN="Susan Kokosa":MAILTO:race_training-at-hudsonvalleyskiclub.org
END:VEVENT
BEGIN:VEVENT
DTSTART;VALUE=DATE:20260217
DTEND;VALUE=DATE:20260218
DTSTAMP:20260422T182349
CREATED:20260205T225106Z
LAST-MODIFIED:20260219T142859Z
UID:30310-1771286400-1771372799@hudsonvalleyskiclub.org
SUMMARY:Instruction - Belleayre
DESCRIPTION:Club ski instruction available either February 17 or February 18.\nContact Dan Croak  dbskiman@gmail.com  to let him know your choice. 
URL:https://hudsonvalleyskiclub.org/event/instruction-belleayre-8/
LOCATION:Belleayre\, 181 Galli Curci Rd\, Highmount\, NY\, 12441\, United States
CATEGORIES:Instruction
END:VEVENT
BEGIN:VEVENT
DTSTART;TZID=America/New_York:20260220T173000
DTEND;TZID=America/New_York:20260220T173000
DTSTAMP:20260422T182349
CREATED:20211030T210858Z
LAST-MODIFIED:20260203T190724Z
UID:24482-1771608600-1771608600@hudsonvalleyskiclub.org
SUMMARY:Race Training - Shadows on the Hudson
DESCRIPTION:TGIF “Race Training”\nShadows On The Hudson – 176 Rinaldi Blvd Poughkeepsie
URL:https://hudsonvalleyskiclub.org/event/race-training-shadows-4/
LOCATION:Shadows on the Hudson\, 176 Rinaldi Blvd\, Poughkeepsie\, NY\, 12601\, United States
CATEGORIES:Race Training
ORGANIZER;CN="Susan Kokosa":MAILTO:race_training-at-hudsonvalleyskiclub.org
END:VEVENT
BEGIN:VEVENT
DTSTART;VALUE=DATE:20260221
DTEND;VALUE=DATE:20260301
DTSTAMP:20260422T182349
CREATED:20250504T020121Z
LAST-MODIFIED:20260106T004521Z
UID:29308-1771632000-1772323199@hudsonvalleyskiclub.org
SUMMARY:Ski Breckenridge CO
DESCRIPTION:HVSC trip to Breckenridge CO – see Ski Trips section of website for details 
URL:https://hudsonvalleyskiclub.org/event/ski-breckenridge-co/
CATEGORIES:Ski Trip
END:VEVENT
BEGIN:VEVENT
DTSTART;TZID=America/New_York:20260227T173000
DTEND;TZID=America/New_York:20260227T173000
DTSTAMP:20260422T182349
CREATED:20260203T190929Z
LAST-MODIFIED:20260203T190929Z
UID:30304-1772213400-1772213400@hudsonvalleyskiclub.org
SUMMARY:Race Training - Casa Vallarta
DESCRIPTION:TGIF “Race Training”  Casa Vallarta\, 1820 Rt 376 Poughkeepsie
URL:https://hudsonvalleyskiclub.org/event/race-training-casa-vallarta-4/
LOCATION:Casa Vallarta\, 1820 Rt 376\, poughkeepsie\, ny\, 12603
CATEGORIES:Race Training
ORGANIZER;CN="Susan Kokosa":MAILTO:race_training-at-hudsonvalleyskiclub.org
END:VEVENT
BEGIN:VEVENT
DTSTART;TZID=America/New_York:20260304T190000
DTEND;TZID=America/New_York:20260304T190000
DTSTAMP:20260422T182349
CREATED:20250919T175950Z
LAST-MODIFIED:20260301T184801Z
UID:29976-1772650800-1772650800@hudsonvalleyskiclub.org
SUMMARY:Member Meeting
DESCRIPTION:regular HVSC member meeting at Buffalo Wild Wings\ndiscuss proposed Constitutional change of membership year
URL:https://hudsonvalleyskiclub.org/event/member-meeting-4/
LOCATION:Buffalo Wild Wings – Wappingers Falls\, 1794 South Road\, Wappingers Falls\, New York\, 12590\, United States
CATEGORIES:Meeting
END:VEVENT
BEGIN:VEVENT
DTSTART;TZID=America/New_York:20260306T173000
DTEND;TZID=America/New_York:20260306T173000
DTSTAMP:20260422T182349
CREATED:20220703T183713Z
LAST-MODIFIED:20260301T184052Z
UID:25529-1772818200-1772818200@hudsonvalleyskiclub.org
SUMMARY:Race Training -  di'Vine Wine Bar 
DESCRIPTION:TGIF “Race Training” – di’Vine Wine Bar 
URL:https://hudsonvalleyskiclub.org/event/race-training-divine-wine-bar-4/
LOCATION:di’Vine Wine Bar\, 1 Market St\, Wappingers Falls\, NY\, United States
CATEGORIES:Race Training
ORGANIZER;CN="Susan Kokosa":MAILTO:race_training-at-hudsonvalleyskiclub.org
END:VEVENT
BEGIN:VEVENT
DTSTART;VALUE=DATE:20260307
DTEND;VALUE=DATE:20260315
DTSTAMP:20260422T182349
CREATED:20250504T020304Z
LAST-MODIFIED:20260205T225534Z
UID:29310-1772841600-1773532799@hudsonvalleyskiclub.org
SUMMARY:Ski Park City UT
DESCRIPTION:HVSC trip to Park City – see Ski Trips section of website for details 
URL:https://hudsonvalleyskiclub.org/event/ski-park-city-ut/
CATEGORIES:Ski Trip
ORGANIZER;CN="Jay Brenner":MAILTO:jay@brennerphoto.com
END:VEVENT
BEGIN:VEVENT
DTSTART;TZID=America/New_York:20260313T173000
DTEND;TZID=America/New_York:20260313T173000
DTSTAMP:20260422T182349
CREATED:20241228T144154Z
LAST-MODIFIED:20260301T184211Z
UID:28806-1773423000-1773423000@hudsonvalleyskiclub.org
SUMMARY:Race Training - Paula's Runway Cafe
DESCRIPTION:“Race Training” TGIF – Paula’s Runway Cafe\nat “Hudson Valley Regional Airport” (Dutchess County Airport\, Wappingers). 
URL:https://hudsonvalleyskiclub.org/event/race-training-paulas-runway-cafe-2/
LOCATION:Paula’s Runway Cafe\, 263 New Hackensack Rd\, Wappingers Falls\, New York\, 12590\, United States
CATEGORIES:Race Training
ORGANIZER;CN="Susan Kokosa":MAILTO:race_training-at-hudsonvalleyskiclub.org
END:VEVENT
BEGIN:VEVENT
DTSTART;TZID=America/New_York:20260320T173000
DTEND;TZID=America/New_York:20260320T173000
DTSTAMP:20260422T182349
CREATED:20210629T220658Z
LAST-MODIFIED:20260301T184258Z
UID:24041-1774027800-1774027800@hudsonvalleyskiclub.org
SUMMARY:Race Training - Shadows on the Hudson
DESCRIPTION:TGIF “Race Training” – Shadows on the Hudson\, 176 Rinaldi Blvd\, Poughkeepsie
URL:https://hudsonvalleyskiclub.org/event/race-training-shadows-on-the-hudson/
LOCATION:Shadows on the Hudson\, 176 Rinaldi Blvd\, Poughkeepsie\, NY\, 12601\, United States
CATEGORIES:Race Training
ORGANIZER;CN="Susan Kokosa":MAILTO:race_training-at-hudsonvalleyskiclub.org
END:VEVENT
BEGIN:VEVENT
DTSTART;VALUE=DATE:20260324
DTEND;VALUE=DATE:20260325
DTSTAMP:20260422T182349
CREATED:20260205T225334Z
LAST-MODIFIED:20260323T134900Z
UID:30314-1774310400-1774396799@hudsonvalleyskiclub.org
SUMMARY:Instruction - Belleayre
DESCRIPTION:Club ski instruction\, contact Dan Croak  dbskiman@gmail.com  if you plan to attend. 
URL:https://hudsonvalleyskiclub.org/event/instruction-belleayre-10/
LOCATION:Belleayre\, 181 Galli Curci Rd\, Highmount\, NY\, 12441\, United States
CATEGORIES:Instruction
END:VEVENT
BEGIN:VEVENT
DTSTART;TZID=America/New_York:20260327T173000
DTEND;TZID=America/New_York:20260327T173000
DTSTAMP:20260422T182349
CREATED:20220131T150908Z
LAST-MODIFIED:20260301T184347Z
UID:24800-1774632600-1774632600@hudsonvalleyskiclub.org
SUMMARY:Race Training - di'Vine Wine Bar
DESCRIPTION:TGIF “Race Training” at a favorite – di’Vine Wine Bar\n1 Market St\, Wappingers Falls
URL:https://hudsonvalleyskiclub.org/event/race-training-divine-wine-bar-2/
LOCATION:di’Vine Wine Bar\, 1 Market St\, Wappingers Falls\, NY\, United States
CATEGORIES:Race Training
ORGANIZER;CN="Susan Kokosa":MAILTO:race_training-at-hudsonvalleyskiclub.org
END:VEVENT
BEGIN:VEVENT
DTSTART;TZID=America/New_York:20260403T173000
DTEND;TZID=America/New_York:20260403T173000
DTSTAMP:20260422T182349
CREATED:20230804T190408Z
LAST-MODIFIED:20260401T004815Z
UID:27134-1775237400-1775237400@hudsonvalleyskiclub.org
SUMMARY:Race Training - Margaritas
DESCRIPTION:TGIF Race Training \nMargaritas Restaurant 1810 South Rd\, Wappingers Falls
URL:https://hudsonvalleyskiclub.org/event/race-training-margaritas-3/
LOCATION:Margaritas\, 1840 South Rd\, Wappingers Falls\, NY\, 12590\, United States
CATEGORIES:Race Training
ORGANIZER;CN="Susan Kokosa":MAILTO:race_training-at-hudsonvalleyskiclub.org
END:VEVENT
BEGIN:VEVENT
DTSTART;TZID=America/New_York:20260408T190000
DTEND;TZID=America/New_York:20260408T210000
DTSTAMP:20260422T182349
CREATED:20260224T220809Z
LAST-MODIFIED:20260224T220809Z
UID:30351-1775674800-1775682000@hudsonvalleyskiclub.org
SUMMARY:Member Meeting
DESCRIPTION:April Member meeting (moved from 1st Wednesday) \nplanned vote on Constitutional change to shift member ship year.  See Members Only page or Newsletter. 
URL:https://hudsonvalleyskiclub.org/event/member-meeting-5/
LOCATION:Buffalo Wild Wings – Wappingers Falls\, 1794 South Road\, Wappingers Falls\, New York\, 12590\, United States
CATEGORIES:Meeting
END:VEVENT
BEGIN:VEVENT
DTSTART;TZID=America/New_York:20260410T173000
DTEND;TZID=America/New_York:20260410T173000
DTSTAMP:20260422T182349
CREATED:20250219T204312Z
LAST-MODIFIED:20260401T004939Z
UID:28983-1775842200-1775842200@hudsonvalleyskiclub.org
SUMMARY:Race Training - Paula's Runway Cafe
DESCRIPTION:“Race Training” TGIF – Paula’s Runway Cafe\nat Hudson Valley Regional Airport  (Dutchess County Airport\, Wappingers). 
URL:https://hudsonvalleyskiclub.org/event/race-training-paulas-runway-cafe-3/
LOCATION:Paula’s Runway Cafe\, 263 New Hackensack Rd\, Wappingers Falls\, New York\, 12590\, United States
CATEGORIES:Race Training
ORGANIZER;CN="Susan Kokosa":MAILTO:race_training-at-hudsonvalleyskiclub.org
END:VEVENT
BEGIN:VEVENT
DTSTART;TZID=America/New_York:20260417T173000
DTEND;TZID=America/New_York:20260417T173000
DTSTAMP:20260422T182349
CREATED:20240525T154832Z
LAST-MODIFIED:20260401T005115Z
UID:28279-1776447000-1776447000@hudsonvalleyskiclub.org
SUMMARY:Race Training - JB's Bar & Grill Baird Park
DESCRIPTION:TGIF “Race Training” – JB’s Bar & Grill Baird Park\n280 Club House Rd\, Pleasant Valley
URL:https://hudsonvalleyskiclub.org/event/race-training-jbs-bar-grill-baird-park/
LOCATION:JB’s Bar & Grill\, 280 Club House Rd\, Pleasant Valley\, NY\, 12569\, United States
CATEGORIES:Race Training
ORGANIZER;CN="Susan Kokosa":MAILTO:race_training-at-hudsonvalleyskiclub.org
END:VEVENT
BEGIN:VEVENT
DTSTART;TZID=America/New_York:20260422T133000
DTEND;TZID=America/New_York:20260422T133000
DTSTAMP:20260422T182349
CREATED:20260320T161953Z
LAST-MODIFIED:20260320T162000Z
UID:30386-1776864600-1776864600@hudsonvalleyskiclub.org
SUMMARY:Kayak - Saugerties Park
DESCRIPTION:paddle up Esopus Creek  launch from Saugerties Village Beach\n47 S. Partitions St.  (just after the bridge\, on the left)\nin water at 2pm – be there at least a half hour before\nAny questions\, call Yvonne home: 845-481-2898\, cell: 845-417-7144\, yab1946@gmail.com
URL:https://hudsonvalleyskiclub.org/event/kayak-saugerties-park/
LOCATION:Saugerties Beach\, 47 S Partition St\, Saugerties\, NY\, 12477\, United States
CATEGORIES:Kayaking
END:VEVENT
BEGIN:VEVENT
DTSTART;TZID=America/New_York:20260424T173000
DTEND;TZID=America/New_York:20260424T173000
DTSTAMP:20260422T182349
CREATED:20220103T173543Z
LAST-MODIFIED:20260401T005227Z
UID:24694-1777051800-1777051800@hudsonvalleyskiclub.org
SUMMARY:Race Training - di'Vine Wine Bar
DESCRIPTION:TGIF “Race Training” at di’Vine Wine Bar\,\n1 Market St Wappingers Falls 
URL:https://hudsonvalleyskiclub.org/event/race-training/
LOCATION:di’Vine Wine Bar\, 1 Market St\, Wappingers Falls\, NY\, United States
CATEGORIES:Race Training
ORGANIZER;CN="Susan Kokosa":MAILTO:race_training-at-hudsonvalleyskiclub.org
END:VEVENT
BEGIN:VEVENT
DTSTART;TZID=America/New_York:20260504T053000
DTEND;TZID=America/New_York:20260504T203000
DTSTAMP:20260422T182349
CREATED:20260403T005919Z
LAST-MODIFIED:20260403T005919Z
UID:30488-1777872600-1777926600@hudsonvalleyskiclub.org
SUMMARY:Rail Trail Biking
DESCRIPTION:May 4 Rail Trail biking is planned to start from Tony Williams Park in Highland.\nRiders leave at 6pm so get there early.  Tailgating follows ride – BYOB & bring food to share. \nContact Rick Fick to get on his email list to be alerted to weather cancellations and location changes.
URL:https://hudsonvalleyskiclub.org/event/rail-trail-biking-7/
LOCATION:Tony Williams Park\, Tony Williams Town Park\, Highland\, NY\, 12528\, United States
CATEGORIES:Event
ORGANIZER;CN="Rick Fick":MAILTO:rjjee@msn.com
END:VEVENT
BEGIN:VEVENT
DTSTART;TZID=America/New_York:20260504T093000
DTEND;TZID=America/New_York:20260504T093000
DTSTAMP:20260422T182349
CREATED:20260320T162610Z
LAST-MODIFIED:20260320T162632Z
UID:30388-1777887000-1777887000@hudsonvalleyskiclub.org
SUMMARY:Kayak - Stissing Lake\, Pine Plains
DESCRIPTION:Kayak Stissing Lake in Pine Plains\, followed by an optional 2.7 mile loop hike around Thompson Pond.  \nquestions: contact Yvonne 845-417-7144 yab1946@gmail.com
URL:https://hudsonvalleyskiclub.org/event/kayak-stissing-lake-pine-plains/
LOCATION:Stissing Pond\, 151 Beach Road\, Pine Plains\, NY\, 12567
CATEGORIES:Kayaking
ORGANIZER;CN="Yvonne Baker":MAILTO:yab1946@gmail.com
END:VEVENT
BEGIN:VEVENT
DTSTART;TZID=America/New_York:20260506T080000
DTEND;TZID=America/New_York:20260506T170000
DTSTAMP:20260422T182349
CREATED:20250919T180138Z
LAST-MODIFIED:20260409T192350Z
UID:29980-1778054400-1778086800@hudsonvalleyskiclub.org
SUMMARY:Election Meeting
DESCRIPTION:Election of Officers at HVSC member meeting\nBuffalo Wild Wings\, Rt9 Wappingers Falls  \n 
URL:https://hudsonvalleyskiclub.org/event/member-meeting-6/
LOCATION:Buffalo Wild Wings – Wappingers Falls\, 1794 South Road\, Wappingers Falls\, New York\, 12590\, United States
CATEGORIES:Meeting
END:VEVENT
BEGIN:VEVENT
DTSTART;TZID=America/New_York:20260511T173000
DTEND;TZID=America/New_York:20260511T203000
DTSTAMP:20260422T182349
CREATED:20260403T010056Z
LAST-MODIFIED:20260403T010056Z
UID:30490-1778520600-1778531400@hudsonvalleyskiclub.org
SUMMARY:Rail Trail Biking
DESCRIPTION:May 11 Rail Trail biking is planned to start from Tony Williams Park in Highland.\nRiders leave at 6pm so get there early.  Tailgating follows ride – BYOB & bring food to share. \nContact Rick Fick to get on his email list to be alerted to weather cancellations and location changes.
URL:https://hudsonvalleyskiclub.org/event/rail-trail-biking-8/
LOCATION:Tony Williams Park\, Tony Williams Town Park\, Highland\, NY\, 12528\, United States
CATEGORIES:Event
ORGANIZER;CN="Rick Fick":MAILTO:rjjee@msn.com
END:VEVENT
END:VCALENDAR