BEGIN:VCALENDAR
VERSION:2.0
PRODID:-//Hudson Valley Ski Club, Inc. - ECPv6.15.20//NONSGML v1.0//EN
CALSCALE:GREGORIAN
METHOD:PUBLISH
X-ORIGINAL-URL:https://hudsonvalleyskiclub.org
X-WR-CALDESC:Events for Hudson Valley Ski Club, Inc.
REFRESH-INTERVAL;VALUE=DURATION:PT1H
X-Robots-Tag:noindex
X-PUBLISHED-TTL:PT1H
BEGIN:VTIMEZONE
TZID:America/New_York
BEGIN:DAYLIGHT
TZOFFSETFROM:-0500
TZOFFSETTO:-0400
TZNAME:EDT
DTSTART:20240310T070000
END:DAYLIGHT
BEGIN:STANDARD
TZOFFSETFROM:-0400
TZOFFSETTO:-0500
TZNAME:EST
DTSTART:20241103T060000
END:STANDARD
BEGIN:DAYLIGHT
TZOFFSETFROM:-0500
TZOFFSETTO:-0400
TZNAME:EDT
DTSTART:20250309T070000
END:DAYLIGHT
BEGIN:STANDARD
TZOFFSETFROM:-0400
TZOFFSETTO:-0500
TZNAME:EST
DTSTART:20251102T060000
END:STANDARD
BEGIN:DAYLIGHT
TZOFFSETFROM:-0500
TZOFFSETTO:-0400
TZNAME:EDT
DTSTART:20260308T070000
END:DAYLIGHT
BEGIN:STANDARD
TZOFFSETFROM:-0400
TZOFFSETTO:-0500
TZNAME:EST
DTSTART:20261101T060000
END:STANDARD
END:VTIMEZONE
BEGIN:VEVENT
DTSTART;VALUE=DATE:20250112
DTEND;VALUE=DATE:20250117
DTSTAMP:20260420T084215
CREATED:20240704T031453Z
LAST-MODIFIED:20240704T032557Z
UID:28408-1736640000-1737071999@hudsonvalleyskiclub.org
SUMMARY:Ski - Stratton\, VT
DESCRIPTION:Stay at Long Trail House 3 or 4 nights: Sunday (optional)\, Monday\, Tuesday\, Wednesday.  Ski Stratton.\nSee “Ski Trips 2025” website page for details. 
URL:https://hudsonvalleyskiclub.org/event/ski-stratton-vt/
LOCATION:NY
CATEGORIES:Ski Trip
END:VEVENT
BEGIN:VEVENT
DTSTART;VALUE=DATE:20250120
DTEND;VALUE=DATE:20250121
DTSTAMP:20260420T084215
CREATED:20241210T200543Z
LAST-MODIFIED:20241215T181520Z
UID:28753-1737331200-1737417599@hudsonvalleyskiclub.org
SUMMARY:Ski Instruction - Intermediate
DESCRIPTION:Ski Instruction  – Monday January 20 at Belleayre \nContact Instructor Dan Croak for more details.  \nDan Croak\,  dbskiman@gmail.com (914) 263-3615 
URL:https://hudsonvalleyskiclub.org/event/ski-instruction-3/
LOCATION:Belleayre\, 181 Galli Curci Rd\, Highmount\, NY\, 12441\, United States
CATEGORIES:Instruction
END:VEVENT
BEGIN:VEVENT
DTSTART;VALUE=DATE:20250125
DTEND;VALUE=DATE:20250202
DTSTAMP:20260420T084215
CREATED:20240704T031739Z
LAST-MODIFIED:20240704T032931Z
UID:28411-1737763200-1738454399@hudsonvalleyskiclub.org
SUMMARY:Ski - Mammoth Mtn\, CA
DESCRIPTION:Week long fly-away trip to Mammoth Mountain in California.  We’re staying in the ski-out/ski-in Mammoth Mountain Lodge. \nSee “Ski Trips 2025” website page for details. 
URL:https://hudsonvalleyskiclub.org/event/ski-mammoth-mtn-ca/
LOCATION:NY
CATEGORIES:Ski Trip
END:VEVENT
BEGIN:VEVENT
DTSTART;TZID=America/New_York:20250205T190000
DTEND;TZID=America/New_York:20250205T190000
DTSTAMP:20260420T084215
CREATED:20220825T205140Z
LAST-MODIFIED:20241228T144909Z
UID:25723-1738782000-1738782000@hudsonvalleyskiclub.org
SUMMARY:Club Meeting
DESCRIPTION:Club meeting at American Legion\, Overlook Rd at Old Degarmo Rd.
URL:https://hudsonvalleyskiclub.org/event/club-meeting-11/
LOCATION:American Legion\, Overlook Rd\, Arlington\, NY\, 12603\, United States
CATEGORIES:Meeting
END:VEVENT
BEGIN:VEVENT
DTSTART;TZID=America/New_York:20250207T183000
DTEND;TZID=America/New_York:20250207T183000
DTSTAMP:20260420T084215
CREATED:20230618T160224Z
LAST-MODIFIED:20250205T182150Z
UID:26947-1738953000-1738953000@hudsonvalleyskiclub.org
SUMMARY:TGIF CHANGE - now Daddy O's
DESCRIPTION:TGIF “Race Training” moved to Daddy O’s Rt 82 Main St Hopewell Jct (on Rail Trail). \n6:30pm after funeral services for Gwn Cardarelli.  \n(moved from La Catrina\, Rt-9 Hyde Park)
URL:https://hudsonvalleyskiclub.org/event/race-training-la-catrina/
LOCATION:Daddy O’s\, 3 Turner St\, Hopewell Junction\, NY\, 12533
CATEGORIES:Race Training
ORGANIZER;CN="Susan Kokosa":MAILTO:race_training-at-hudsonvalleyskiclub.org
END:VEVENT
BEGIN:VEVENT
DTSTART;VALUE=DATE:20250209
DTEND;VALUE=DATE:20250215
DTSTAMP:20260420T084215
CREATED:20240704T032121Z
LAST-MODIFIED:20240704T032121Z
UID:28413-1739059200-1739577599@hudsonvalleyskiclub.org
SUMMARY:Ski - Mont Tremblant\, Quebec
DESCRIPTION:Drive-to trip to Mont Tremblant in Quebec.  Five nights (sunday – Thursday) at Sommet des Neiges.  \nSee “Ski Trips 2025” website page for details. 
URL:https://hudsonvalleyskiclub.org/event/ski-mont-tremblant-quebec/
LOCATION:NY
CATEGORIES:Ski Trip
END:VEVENT
BEGIN:VEVENT
DTSTART;TZID=America/New_York:20250221T173000
DTEND;TZID=America/New_York:20250221T173000
DTSTAMP:20260420T084215
CREATED:20220802T003145Z
LAST-MODIFIED:20250221T202705Z
UID:25629-1740159000-1740159000@hudsonvalleyskiclub.org
SUMMARY:Race Training - Maya Cafe
DESCRIPTION:TGIF “Race Training” – Maya Cafe 448 Route 9 Fishkill
URL:https://hudsonvalleyskiclub.org/event/race-training-la-puerta-azul-3/
LOCATION:maya cafe\, 449 us-9\, fishkill\, new york\, 12524
CATEGORIES:Race Training
ORGANIZER;CN="Susan Kokosa":MAILTO:race_training-at-hudsonvalleyskiclub.org
END:VEVENT
BEGIN:VEVENT
DTSTART;VALUE=DATE:20250223
DTEND;VALUE=DATE:20250224
DTSTAMP:20260420T084215
CREATED:20250207T215505Z
LAST-MODIFIED:20250207T215601Z
UID:28961-1740268800-1740355199@hudsonvalleyskiclub.org
SUMMARY:Ski - Holiday Mountain
DESCRIPTION:Ski with your Grandkids.  Contact Jay Brenner for details.
URL:https://hudsonvalleyskiclub.org/event/ski-holiday-mountain/
LOCATION:Holiday Mountain\, 99 Holiday Mountain Road\, Monticello\, NY\, 12701
CATEGORIES:Ski Trip
ORGANIZER;CN="Jay Brenner":MAILTO:jay@brennerphoto.com
END:VEVENT
BEGIN:VEVENT
DTSTART;VALUE=DATE:20250224
DTEND;VALUE=DATE:20250301
DTSTAMP:20260420T084215
CREATED:20240704T032447Z
LAST-MODIFIED:20240704T032447Z
UID:28415-1740355200-1740787199@hudsonvalleyskiclub.org
SUMMARY:Ski - Whiteface\, NY
DESCRIPTION:Stay at High Peaks Resort in Lake Placid for 3 or 4 nights: Monday (optional)\, Tuesday\, Wednesday\, Thursday.  Ski Whiteface or Gore.\nSee “Ski Trips 2025” website page for details. 
URL:https://hudsonvalleyskiclub.org/event/ski-whiteface-ny/
LOCATION:NY
CATEGORIES:Ski Trip
END:VEVENT
BEGIN:VEVENT
DTSTART;TZID=America/New_York:20250305T190000
DTEND;TZID=America/New_York:20250305T190000
DTSTAMP:20260420T084215
CREATED:20210520T164758Z
LAST-MODIFIED:20241228T145239Z
UID:23731-1741201200-1741201200@hudsonvalleyskiclub.org
SUMMARY:Club Meeting
DESCRIPTION:monthly member meeting at American Legion 55 Overlook Rd
URL:https://hudsonvalleyskiclub.org/event/hvsc-meeting-5/
LOCATION:American Legion\, Overlook Rd\, Arlington\, NY\, 12603\, United States
CATEGORIES:Meeting
END:VEVENT
BEGIN:VEVENT
DTSTART;VALUE=DATE:20250308
DTEND;VALUE=DATE:20250316
DTSTAMP:20260420T084215
CREATED:20231005T013819Z
LAST-MODIFIED:20250103T203022Z
UID:27374-1741392000-1742083199@hudsonvalleyskiclub.org
SUMMARY:Ski - Big Sky\, MT
DESCRIPTION:Week long fly-away trip to Big Sky in Montanna\, staying at the ski-out/ski-in Huntley Lodge.  \nSee “Ski Trips 2025” website page for details. 
URL:https://hudsonvalleyskiclub.org/event/big-sky-mt/
LOCATION:NY
CATEGORIES:Ski Trip
END:VEVENT
BEGIN:VEVENT
DTSTART;TZID=America/New_York:20250314T173000
DTEND;TZID=America/New_York:20250314T173000
DTSTAMP:20260420T084215
CREATED:20231222T034526Z
LAST-MODIFIED:20250219T204422Z
UID:27527-1741973400-1741973400@hudsonvalleyskiclub.org
SUMMARY:Race Training - Cinco de Mayo
DESCRIPTION:TGIF “Race Training” – Cinco de Mayo Manchester Rd Poughkeepsie
URL:https://hudsonvalleyskiclub.org/event/race-training-cinco-de-mayo/
LOCATION:Cinco de Mayo 2\, 404 Manchester Rd\, Poughkeepsie\, NY\, 12603\, United States
CATEGORIES:Race Training
ORGANIZER;CN="Susan Kokosa":MAILTO:race_training-at-hudsonvalleyskiclub.org
END:VEVENT
BEGIN:VEVENT
DTSTART;VALUE=DATE:20250328
DTEND;VALUE=DATE:20250331
DTSTAMP:20260420T084215
CREATED:20240707T211401Z
LAST-MODIFIED:20250331T000459Z
UID:28455-1743120000-1743379199@hudsonvalleyskiclub.org
SUMMARY:Ski - Smugglers' Notch Brewfest
DESCRIPTION:Package includes condo lodging walkable to the lifts\, 3 days of lift tickets (Friday\, Saturday and Sunday)\, two days breakfast\, and a beerfest on Saturday night featuring tasting from local Vermont brewers.   See Ski Trips tab for Registration info or contact Alan Imhoff.
URL:https://hudsonvalleyskiclub.org/event/ski-smugglers-notch-brewfest/
LOCATION:NY
CATEGORIES:Ski Trip
ORGANIZER;CN="Alan Imhoff":MAILTO:alanimhoff@gmail.com
END:VEVENT
BEGIN:VEVENT
DTSTART;TZID=America/New_York:20250402T190000
DTEND;TZID=America/New_York:20250402T190000
DTSTAMP:20260420T084215
CREATED:20220103T175554Z
LAST-MODIFIED:20250316T162436Z
UID:24711-1743620400-1743620400@hudsonvalleyskiclub.org
SUMMARY:Club Meeting - Kayaking presentation
DESCRIPTION:At our April 2 Member meeting\,  Yvonne Baker and Skip Alford will give a presentation on local kayaking  and provide info on equipment\, basic skills\, and answer any questions that you might have. 7:00pm Wednesday\, April 2nd at American Legion 55 Overlook Rd.
URL:https://hudsonvalleyskiclub.org/event/club-meeting-4/
LOCATION:American Legion\, Overlook Rd\, Arlington\, NY\, 12603\, United States
CATEGORIES:Meeting
END:VEVENT
BEGIN:VEVENT
DTSTART;TZID=America/New_York:20250404T173000
DTEND;TZID=America/New_York:20250404T173000
DTSTAMP:20260420T084215
CREATED:20250330T224500Z
LAST-MODIFIED:20250330T224813Z
UID:29081-1743787800-1743787800@hudsonvalleyskiclub.org
SUMMARY:Race Training - Paula's Runway Cafe
DESCRIPTION:“Race Training” TGIF – Paula’s Runway Cafe\nat “Hudson Valley Regional Airport” (Dutchess County Airport\, Wappingers). 
URL:https://hudsonvalleyskiclub.org/event/race-training-paulas-runway-cafe-4/
LOCATION:Paula’s Runway Cafe\, 263 New Hackensack Rd\, Wappingers Falls\, New York\, 12590\, United States
CATEGORIES:Race Training
ORGANIZER;CN="Susan Kokosa":MAILTO:race_training-at-hudsonvalleyskiclub.org
END:VEVENT
BEGIN:VEVENT
DTSTART;TZID=America/New_York:20250411T173000
DTEND;TZID=America/New_York:20250411T173000
DTSTAMP:20260420T084215
CREATED:20250330T225028Z
LAST-MODIFIED:20250330T225040Z
UID:29083-1744392600-1744392600@hudsonvalleyskiclub.org
SUMMARY:Race Training - La Catrina
DESCRIPTION:TGIF “Race Training”\nLa Catrina\, Rt-9 Hyde Park (where Hyde Park Brewing once was)
URL:https://hudsonvalleyskiclub.org/event/race-training-la-catrina-3/
LOCATION:La Catrina\, 4076 Albany Post Rd\, Hyde Park\, NY\, United States
CATEGORIES:Race Training
ORGANIZER;CN="Susan Kokosa":MAILTO:race_training-at-hudsonvalleyskiclub.org
END:VEVENT
BEGIN:VEVENT
DTSTART;TZID=America/New_York:20250425T173000
DTEND;TZID=America/New_York:20250425T173000
DTSTAMP:20260420T084215
CREATED:20221203T190441Z
LAST-MODIFIED:20250330T225306Z
UID:26097-1745602200-1745602200@hudsonvalleyskiclub.org
SUMMARY:Race Training - Patsy's Pizzeria
DESCRIPTION:TGIF “Race Training”\nPatsy’s Pizzeria\n2657 East Main St; Wappingers Falls
URL:https://hudsonvalleyskiclub.org/event/race-training-patsys-pizzeria/
LOCATION:Patsy’s Pizzeria\, 2657 East Main St\, Wappingers Falls\, NY\, United States
CATEGORIES:Race Training
ORGANIZER;CN="Susan Kokosa":MAILTO:race_training-at-hudsonvalleyskiclub.org
END:VEVENT
BEGIN:VEVENT
DTSTART;VALUE=DATE:20250426
DTEND;VALUE=DATE:20250427
DTSTAMP:20260420T084215
CREATED:20250103T203659Z
LAST-MODIFIED:20250316T162654Z
UID:28829-1745625600-1745711999@hudsonvalleyskiclub.org
SUMMARY:Wappingers Creek Water Derby
DESCRIPTION:Kayak/canoe from Pleasant Valley to Red Oaks Mill.  Sponsored by local Veteran’s Sportsmans club and Scuba Diving club.  See our Activities tab for more details. 
URL:https://hudsonvalleyskiclub.org/event/wappingers-creek-water-derby-2/
LOCATION:NY
END:VEVENT
BEGIN:VEVENT
DTSTART;TZID=America/New_York:20250502T173000
DTEND;TZID=America/New_York:20250502T173000
DTSTAMP:20260420T084215
CREATED:20220330T151513Z
LAST-MODIFIED:20250423T210655Z
UID:24991-1746207000-1746207000@hudsonvalleyskiclub.org
SUMMARY:Race Training - La Puerta Azul
DESCRIPTION:TGIF “Race Training” – La Puerta Azul\, Rt-44 Millbrook
URL:https://hudsonvalleyskiclub.org/event/race-training-la-puerta-azul/
LOCATION:La Puerta Azul\, 2510 US-44\, Millbrook\, NY\, 12545
CATEGORIES:Race Training
ORGANIZER;CN="Susan Kokosa":MAILTO:race_training-at-hudsonvalleyskiclub.org
END:VEVENT
BEGIN:VEVENT
DTSTART;TZID=America/New_York:20250503T180000
DTEND;TZID=America/New_York:20250503T220000
DTSTAMP:20260420T084215
CREATED:20250103T203811Z
LAST-MODIFIED:20250330T235207Z
UID:28831-1746295200-1746309600@hudsonvalleyskiclub.org
SUMMARY:TSSC 75th Anniversary Party
DESCRIPTION:Trailsweepers 75th anniversary Celebration.  Wiltwyck Golf Club   \nCash bar\, Buffet Dinner\, Dancing to Roadhouse 60s Band\nTSSC members $60 before April 26.  HVSC members $72 \n 
URL:https://hudsonvalleyskiclub.org/event/trailsweepers-75th-anniversary-party/
LOCATION:NY
ORGANIZER;CN="Diana Ziegenfelder":MAILTO:dzinnial14@gmail.om
END:VEVENT
BEGIN:VEVENT
DTSTART;TZID=America/New_York:20250507T190000
DTEND;TZID=America/New_York:20250507T190000
DTSTAMP:20260420T084215
CREATED:20210520T163150Z
LAST-MODIFIED:20250413T142655Z
UID:23716-1746644400-1746644400@hudsonvalleyskiclub.org
SUMMARY:Election Meeting
DESCRIPTION:Annual Meeting with Election of Officers/Directors \nBike presentation by Bikeway
URL:https://hudsonvalleyskiclub.org/event/23716/
LOCATION:American Legion\, Overlook Rd\, Arlington\, NY\, 12603\, United States
CATEGORIES:Meeting
END:VEVENT
BEGIN:VEVENT
DTSTART;TZID=America/New_York:20250523T173000
DTEND;TZID=America/New_York:20250523T173000
DTSTAMP:20260420T084215
CREATED:20241120T153623Z
LAST-MODIFIED:20250423T210956Z
UID:28719-1748021400-1748021400@hudsonvalleyskiclub.org
SUMMARY:Race Training - Paula's Runway Cafe
DESCRIPTION:“Race Training” TGIF – Paula’s Runway Cafe\nat “Hudson Valley Regional Airport” (Dutchess County Airport\, Wappingers). 
URL:https://hudsonvalleyskiclub.org/event/race-training-paulas-runway-cafe/
LOCATION:Paula’s Runway Cafe\, 263 New Hackensack Rd\, Wappingers Falls\, New York\, 12590\, United States
CATEGORIES:Race Training
ORGANIZER;CN="Susan Kokosa":MAILTO:race_training-at-hudsonvalleyskiclub.org
END:VEVENT
BEGIN:VEVENT
DTSTART;TZID=America/New_York:20250527T093000
DTEND;TZID=America/New_York:20250527T093000
DTSTAMP:20260420T084215
CREATED:20230502T193615Z
LAST-MODIFIED:20250526T204400Z
UID:26713-1748338200-1748338200@hudsonvalleyskiclub.org
SUMMARY:Kayak - Saugerties Beach
DESCRIPTION:Rescheduled from May 10th rainout  \npaddle up Esopus Creek  launch from Saugerties Village Beach\n47 S. Partitions St.  (just after the bridge\, on the left)\nin water at 10am – be there at least a half hour before\nAny questions\, call Yvonne home: 845-481-2898\, cell: 845-417-7144\, yab1946@gmail.com
URL:https://hudsonvalleyskiclub.org/event/kayak-esopus-creek-saugerties/
LOCATION:Saugerties Beach\, 47 S Partition St\, Saugerties\, NY\, 12477\, United States
CATEGORIES:Kayaking
ORGANIZER;CN="Yvonne Baker":MAILTO:yab1946@gmail.com
END:VEVENT
BEGIN:VEVENT
DTSTART;TZID=America/New_York:20250530T173000
DTEND;TZID=America/New_York:20250530T173000
DTSTAMP:20260420T084215
CREATED:20250423T211224Z
LAST-MODIFIED:20250423T211224Z
UID:29259-1748626200-1748626200@hudsonvalleyskiclub.org
SUMMARY:Race Training - Patsy's Pizzeria
DESCRIPTION:TGIF “Race Training”\nPatsy’s Pizzeria – 2657 East Main St; Wappingers Falls
URL:https://hudsonvalleyskiclub.org/event/race-training-patsys-pizzeria-3/
LOCATION:Patsy’s Pizzeria\, 2657 East Main St\, Wappingers Falls\, NY\, United States
CATEGORIES:Race Training
ORGANIZER;CN="Susan Kokosa":MAILTO:race_training-at-hudsonvalleyskiclub.org
END:VEVENT
BEGIN:VEVENT
DTSTART;TZID=America/New_York:20250601T093000
DTEND;TZID=America/New_York:20250601T093000
DTSTAMP:20260420T084215
CREATED:20210423T193045Z
LAST-MODIFIED:20250531T133902Z
UID:23336-1748770200-1748770200@hudsonvalleyskiclub.org
SUMMARY:Rail Trail Cleanup
DESCRIPTION:Trash pickup on the section of the Dutchess Rail Trail that HVSC has “adopted” (between Page Lumber & Gold’s Gym).\nMoved from Sat May 31 to Sun June 1 due to weather.\nMeet at the small parking lot off Rt 55 just behind Page Lumber.\nLet Keith know you’re joining: 845-282-0387 krfauch@optonline.net
URL:https://hudsonvalleyskiclub.org/event/rail-trail-cleanup/
LOCATION:Rt.55 Rail Trail\, Old Manchester Road\, Poughkeepsie\, ny\, 12603\, United States
CATEGORIES:Event
END:VEVENT
BEGIN:VEVENT
DTSTART;TZID=America/New_York:20250603T130000
DTEND;TZID=America/New_York:20250603T140000
DTSTAMP:20260420T084215
CREATED:20250508T180812Z
LAST-MODIFIED:20250508T181615Z
UID:29389-1748955600-1748959200@hudsonvalleyskiclub.org
SUMMARY:Golf Outing
DESCRIPTION:Golf outing at Beekman Golf Course sharing time with the Family Ski Meisters\nDate : June 3rd   Tee times between 1:00 and 2:00\n9 holes   $24.00 per player (club member or not) plus Golf Cart Included\nLunch afterwards at the Clubhouse food ordered off the menu \nContact: Jay Brenner  516-313-7670 text or call or e-mail jay@brennerphoto.com\nCutoff Date: May 25th 
URL:https://hudsonvalleyskiclub.org/event/golf-outing/
LOCATION:Beekman Golf Course\, 11 Country Club Rd\, Hopewell Junction\, NY\, 12533
CATEGORIES:Event
ORGANIZER;CN="Jay Brenner":MAILTO:jay@brennerphoto.com
END:VEVENT
BEGIN:VEVENT
DTSTART;VALUE=DATE:20250604
DTEND;VALUE=DATE:20250605
DTSTAMP:20260420T084215
CREATED:20250508T161131Z
LAST-MODIFIED:20250530T155644Z
UID:29384-1748995200-1749081599@hudsonvalleyskiclub.org
SUMMARY:No Mbr Mtg (6/8 Picnic instead)
DESCRIPTION:Wednesday evening June 4 meeting has been replaced by the Sunday June 8 Picnic Meeting. 
URL:https://hudsonvalleyskiclub.org/event/no-member-meeting/
LOCATION:NY
CATEGORIES:Meeting
END:VEVENT
BEGIN:VEVENT
DTSTART;TZID=America/New_York:20250604T093000
DTEND;TZID=America/New_York:20250604T093000
DTSTAMP:20260420T084215
CREATED:20220403T014457Z
LAST-MODIFIED:20250527T201339Z
UID:25010-1749029400-1749029400@hudsonvalleyskiclub.org
SUMMARY:Kayak - Rondout Creek\, Sleightsburg
DESCRIPTION:Roundout Creek from Sleightsburg Park\neither up the creek to the Eddyville Falls\nor out the creek to light house and Port Ewen Bay \nlaunch 10am\, be there at least a half hour before \nAny questions\, call Yvonne home: 845-481-2898\, cell: 845-417-7144\, yab1946@gmail.com
URL:https://hudsonvalleyskiclub.org/event/kayak-roundout-creek-sleightsburg/
LOCATION:Sleightsburgh Park\, Parsell St\, Port Ewen\, 12466\, United States
CATEGORIES:Kayaking
ORGANIZER;CN="Yvonne Baker":MAILTO:yab1946@gmail.com
END:VEVENT
BEGIN:VEVENT
DTSTART;TZID=America/New_York:20250606T173000
DTEND;TZID=America/New_York:20250606T173000
DTSTAMP:20260420T084215
CREATED:20240702T214045Z
LAST-MODIFIED:20250628T161808Z
UID:28389-1749231000-1749231000@hudsonvalleyskiclub.org
SUMMARY:Race Training - Millbrook Vineyards
DESCRIPTION:Millbrook Vineyards – 26 Wing Rd\, Millbrook\nbring a chair to sit on lawn\, food trucks available but bring snacks\nno outside alcohol – must purchase from Winery  \nIf inclement weather\, check our Facebook Group site for updates. 
URL:https://hudsonvalleyskiclub.org/event/race-training-millbrook-vineyards-7/
LOCATION:Millbrook Vineyards\, 26 Wing Rd\, Millbrook\, NY\, United States
CATEGORIES:Race Training
ORGANIZER;CN="Susan Kokosa":MAILTO:race_training-at-hudsonvalleyskiclub.org
END:VEVENT
BEGIN:VEVENT
DTSTART;TZID=America/New_York:20250608T140000
DTEND;TZID=America/New_York:20250608T170000
DTSTAMP:20260420T084215
CREATED:20250508T182225Z
LAST-MODIFIED:20250919T180342Z
UID:29386-1749391200-1749402000@hudsonvalleyskiclub.org
SUMMARY:Picnic Meeting
DESCRIPTION:Our June club meeting will be a Picnic meeting on Sunday June 8 from 2-5pm at the American Legion pavilion.\nHamburgers\, hot dogs\, sausage & peppers\, non-alcoholic drinks.  Cash bar available. \n(Liquor laws require all alcoholic beverages must be purchased from the American Legion’s bar. Absolutely NO outside alcohol!)\nPlease bring a side dish or dessert to share.  \nClub Members $10\, Guests $15.     \nRSVP required by May 31 so we could plan food. \nKeith Faucher  845-282-0387  krfauch@optonline.net   \nWe’ll be taking 2026 Breckenridge & Park City Registrations at the Picnic.  Those trips are likely to sell out\, so sign up at the Picnic! \n  \n  \n 
URL:https://hudsonvalleyskiclub.org/event/picnic-meeting-2/
LOCATION:American Legion\, Overlook Rd\, Arlington\, NY\, 12603\, United States
CATEGORIES:Meeting
ORGANIZER;CN="Keith Faucher":MAILTO:krfaucher@optonline.net
END:VEVENT
END:VCALENDAR