BEGIN:VCALENDAR
VERSION:2.0
PRODID:-//Hudson Valley Ski Club, Inc. - ECPv6.15.20//NONSGML v1.0//EN
CALSCALE:GREGORIAN
METHOD:PUBLISH
X-WR-CALNAME:Hudson Valley Ski Club, Inc.
X-ORIGINAL-URL:https://hudsonvalleyskiclub.org
X-WR-CALDESC:Events for Hudson Valley Ski Club, Inc.
REFRESH-INTERVAL;VALUE=DURATION:PT1H
X-Robots-Tag:noindex
X-PUBLISHED-TTL:PT1H
BEGIN:VTIMEZONE
TZID:America/New_York
BEGIN:DAYLIGHT
TZOFFSETFROM:-0500
TZOFFSETTO:-0400
TZNAME:EDT
DTSTART:20230312T070000
END:DAYLIGHT
BEGIN:STANDARD
TZOFFSETFROM:-0400
TZOFFSETTO:-0500
TZNAME:EST
DTSTART:20231105T060000
END:STANDARD
BEGIN:DAYLIGHT
TZOFFSETFROM:-0500
TZOFFSETTO:-0400
TZNAME:EDT
DTSTART:20240310T070000
END:DAYLIGHT
BEGIN:STANDARD
TZOFFSETFROM:-0400
TZOFFSETTO:-0500
TZNAME:EST
DTSTART:20241103T060000
END:STANDARD
BEGIN:DAYLIGHT
TZOFFSETFROM:-0500
TZOFFSETTO:-0400
TZNAME:EDT
DTSTART:20250309T070000
END:DAYLIGHT
BEGIN:STANDARD
TZOFFSETFROM:-0400
TZOFFSETTO:-0500
TZNAME:EST
DTSTART:20251102T060000
END:STANDARD
BEGIN:DAYLIGHT
TZOFFSETFROM:-0500
TZOFFSETTO:-0400
TZNAME:EDT
DTSTART:20260308T070000
END:DAYLIGHT
BEGIN:STANDARD
TZOFFSETFROM:-0400
TZOFFSETTO:-0500
TZNAME:EST
DTSTART:20261101T060000
END:STANDARD
END:VTIMEZONE
BEGIN:VEVENT
DTSTART;TZID=America/New_York:20240801T180000
DTEND;TZID=America/New_York:20240801T220000
DTSTAMP:20260422T220043
CREATED:20240411T195206Z
LAST-MODIFIED:20240411T195206Z
UID:27998-1722535200-1722549600@hudsonvalleyskiclub.org
SUMMARY:Sharon Playhouse: “The Prom”
DESCRIPTION:Sharon Playhouse: This year’s play is “The Prom”. The Date is August 1st with the performance starting at 7:00PM. We will meet at Betty’s House for meet & greet and sharing of Food\, then off to the Play. Tickets are $25. Closing date to sign up is July 25th.
URL:https://hudsonvalleyskiclub.org/event/sharon-playhouse-the-prom/
LOCATION:Sharon Playhouse\, 49 Amenia Road\, Sharon\, Connecticut\, 06069\, United States
CATEGORIES:Event
ORGANIZER;CN="Jay Brenner":MAILTO:jay@brennerphoto.com
END:VEVENT
BEGIN:VEVENT
DTSTART;TZID=America/New_York:20240802T170000
DTEND;TZID=America/New_York:20240802T170000
DTSTAMP:20260422T220043
CREATED:20220602T234154Z
LAST-MODIFIED:20240702T214930Z
UID:25365-1722618000-1722618000@hudsonvalleyskiclub.org
SUMMARY:Race Training - La Puerta Azul
DESCRIPTION:TGIF “Race Training” – La Puerta Azul\, Rt-44 Millbrook
URL:https://hudsonvalleyskiclub.org/event/race-training-la-puerta-azul-2/
LOCATION:La Puerta Azul\, 2510 US-44\, Millbrook\, NY\, 12545
CATEGORIES:Race Training
ORGANIZER;CN="Susan Kokosa":MAILTO:race_training-at-hudsonvalleyskiclub.org
END:VEVENT
BEGIN:VEVENT
DTSTART;VALUE=DATE:20240803
DTEND;VALUE=DATE:20240804
DTSTAMP:20260422T220043
CREATED:20240802T134625Z
LAST-MODIFIED:20240802T134820Z
UID:28493-1722643200-1722729599@hudsonvalleyskiclub.org
SUMMARY:Garden Party now Aug 17
DESCRIPTION:Frank’s backyard Garden Party postponed to Saturday August 17. \n  \n 
URL:https://hudsonvalleyskiclub.org/event/garden-party-postponed/
LOCATION:NY
CATEGORIES:Event
END:VEVENT
BEGIN:VEVENT
DTSTART;TZID=America/New_York:20240807T190000
DTEND;TZID=America/New_York:20240807T190000
DTSTAMP:20260422T220043
CREATED:20210520T165101Z
LAST-MODIFIED:20240701T193805Z
UID:23735-1723057200-1723057200@hudsonvalleyskiclub.org
SUMMARY:Club Meeting
DESCRIPTION:
URL:https://hudsonvalleyskiclub.org/event/hvsc-meeting-7/
LOCATION:American Legion\, Overlook Rd\, Arlington\, NY\, 12603\, United States
CATEGORIES:Meeting
END:VEVENT
BEGIN:VEVENT
DTSTART;TZID=America/New_York:20240809T170000
DTEND;TZID=America/New_York:20240809T170000
DTSTAMP:20260422T220043
CREATED:20240809T203051Z
LAST-MODIFIED:20240809T203051Z
UID:28523-1723222800-1723222800@hudsonvalleyskiclub.org
SUMMARY:Race Training - JB's Bar&Grill\, Baird Park
DESCRIPTION:TGIF “Race Training” \nmoved from Ship Lantern Inn to: JB’s Bar & Grill Baird Park 280 Club House Rd Pleasant Valley
URL:https://hudsonvalleyskiclub.org/event/race-training-jbs-bargrill-baird-park/
LOCATION:JB’s Bar & Grill\, 280 Club House Rd\, Pleasant Valley\, NY\, 12569\, United States
CATEGORIES:Race Training
ORGANIZER;CN="Susan Kokosa":MAILTO:race_training-at-hudsonvalleyskiclub.org
END:VEVENT
BEGIN:VEVENT
DTSTART;TZID=America/New_York:20240817T160000
DTEND;TZID=America/New_York:20240817T190000
DTSTAMP:20260422T220043
CREATED:20240704T021015Z
LAST-MODIFIED:20240816T201416Z
UID:28402-1723910400-1723921200@hudsonvalleyskiclub.org
SUMMARY:Garden Party - CANCELLED
DESCRIPTION:Now CANCELLED due to predicted rainy weather  \nA tradition since 2009\, the annual late-summer party of skiers\, riders and other snow-addicted people\, held in the garden of Frank & Lois Van Zanten\, will once again take place. \nParticipants enjoy drinks\, share food\, tell tall tales of their incredible snow experiences\, talk about the upcoming skiing and riding season … and some even take time to look at the flowers. \nCANCELLED\nWas:  Saturday August 17\,  4 PM    (moved from Saturday August 3)  \nWhere: 138 Wilbur Blvd.\, Poughkeepsie\, NY  12603. \nWhat: Potluck (Bring a Dish to Share)\, and BYOB.\nChairs\, soft drinks\, plates\, etc. provided. \nNo RSVPs\, please …. Just come!
URL:https://hudsonvalleyskiclub.org/event/summer-garden-party-2/
LOCATION:Frank Van Zanten’s\, 138 Wilbur Blvd\, Poughkeepsie\, NY\, 12601\, United States
CATEGORIES:Event
ORGANIZER;CN="Frank Van Zanten":MAILTO:FVZColors@aol.com
END:VEVENT
BEGIN:VEVENT
DTSTART;TZID=America/New_York:20240821T100000
DTEND;TZID=America/New_York:20240821T100000
DTSTAMP:20260422T220043
CREATED:20240414T204534Z
LAST-MODIFIED:20240711T144337Z
UID:28040-1724234400-1724234400@hudsonvalleyskiclub.org
SUMMARY:Kayak - Rondout Creek\, Sleightsburg
DESCRIPTION:Rondout Creek from Sleightsburg Park\nlaunch 10am\, be there at least a half hour before \n(moved from August 14) \nAny kayaking questions\, call Yvonne home: 845-481-2898\, cell: 845-417-7144\, yab1946@gmail.com
URL:https://hudsonvalleyskiclub.org/event/kayak-rondout-creek-sleightsburg/
LOCATION:Sleightsburgh Park\, Parsell St\, Port Ewen\, 12466\, United States
CATEGORIES:Kayaking
ORGANIZER;CN="Yvonne Baker":MAILTO:yab1946@gmail.com
END:VEVENT
BEGIN:VEVENT
DTSTART;TZID=America/New_York:20240904T190000
DTEND;TZID=America/New_York:20240904T190000
DTSTAMP:20260422T220043
CREATED:20220103T175509Z
LAST-MODIFIED:20241001T200616Z
UID:24709-1725476400-1725476400@hudsonvalleyskiclub.org
SUMMARY:Club Meeting
DESCRIPTION:Membership Renewals for ’24-’25 membership year due Sept 4\, 2024
URL:https://hudsonvalleyskiclub.org/event/club-meeting-3/
LOCATION:American Legion\, Overlook Rd\, Arlington\, NY\, 12603\, United States
CATEGORIES:Meeting
END:VEVENT
BEGIN:VEVENT
DTSTART;TZID=America/New_York:20240911T100000
DTEND;TZID=America/New_York:20240911T100000
DTSTAMP:20260422T220043
CREATED:20240414T204818Z
LAST-MODIFIED:20240414T204818Z
UID:28042-1726048800-1726048800@hudsonvalleyskiclub.org
SUMMARY:Kayak - Cold Spring
DESCRIPTION:Kayak from Foundry Dock Park in Cold Spring\nLaunch at 10am\, be there at least a half hour earlier\nAny questions\, call Yvonne home: 845-481-2898\, cell: 845-417-7144\, yab1946@gmail.com
URL:https://hudsonvalleyskiclub.org/event/kayak-cold-spring-2/
LOCATION:Foundary Dock Park\, 41 Market St\, Cold Spring\, NY\, 10516\, United States
CATEGORIES:Kayaking
ORGANIZER;CN="Yvonne Baker":MAILTO:yab1946@gmail.com
END:VEVENT
BEGIN:VEVENT
DTSTART;TZID=America/New_York:20240913T170000
DTEND;TZID=America/New_York:20240913T170000
DTSTAMP:20260422T220043
CREATED:20240821T183044Z
LAST-MODIFIED:20240821T183044Z
UID:28566-1726246800-1726246800@hudsonvalleyskiclub.org
SUMMARY:Race Training - La Puerta Azul
DESCRIPTION:TGIF “Race Training” – La Puerta Azul\, Rt-44 Millbrook
URL:https://hudsonvalleyskiclub.org/event/race-training-la-puerta-azul-6/
LOCATION:La Puerta Azul\, 2510 US-44\, Millbrook\, NY\, 12545
CATEGORIES:Race Training
ORGANIZER;CN="Susan Kokosa":MAILTO:race_training-at-hudsonvalleyskiclub.org
END:VEVENT
BEGIN:VEVENT
DTSTART;TZID=America/New_York:20240920T170000
DTEND;TZID=America/New_York:20240920T170000
DTSTAMP:20260422T220043
CREATED:20240821T183322Z
LAST-MODIFIED:20240821T183338Z
UID:28568-1726851600-1726851600@hudsonvalleyskiclub.org
SUMMARY:Race Training - JB's Bar & Grill (Baird Park)
DESCRIPTION:TGIF “Race Training” – JB’s Bar & Grill at Baird Park\, 280 Club House Rd Pleasant Valley
URL:https://hudsonvalleyskiclub.org/event/race-training-jbs-bar-grill-baird-park-3/
LOCATION:JB’s Bar & Grill\, 280 Club House Rd\, Pleasant Valley\, NY\, 12569\, United States
CATEGORIES:Race Training
ORGANIZER;CN="Susan Kokosa":MAILTO:race_training-at-hudsonvalleyskiclub.org
END:VEVENT
BEGIN:VEVENT
DTSTART;TZID=America/New_York:20240927T170000
DTEND;TZID=America/New_York:20240927T170000
DTSTAMP:20260422T220043
CREATED:20231030T152717Z
LAST-MODIFIED:20240821T183447Z
UID:27425-1727456400-1727456400@hudsonvalleyskiclub.org
SUMMARY:Race Training - Cafe Maya
DESCRIPTION:TGIF “Race Training” at Cafe Maya\, 2776 W. Main St \,Wappingers Falls
URL:https://hudsonvalleyskiclub.org/event/race-training-cafe-maya/
LOCATION:Cafe Maya\, 2776 W. Main St\, Wappingers Falls\, NY\, 12590\, United States
CATEGORIES:Race Training
ORGANIZER;CN="Susan Kokosa":MAILTO:race_training-at-hudsonvalleyskiclub.org
END:VEVENT
BEGIN:VEVENT
DTSTART;TZID=America/New_York:20241002T190000
DTEND;TZID=America/New_York:20241002T190000
DTSTAMP:20260422T220043
CREATED:20220825T205045Z
LAST-MODIFIED:20241002T002904Z
UID:25721-1727895600-1727895600@hudsonvalleyskiclub.org
SUMMARY:Club Meeting
DESCRIPTION:Member meeting at American Legion\nCollette Tours will describe our October 2025 trip to Machu Picchu.\nChiropractor Dr. Kurt Kish will also speak on staying in shape for skiing.  
URL:https://hudsonvalleyskiclub.org/event/club-meeting-10/
LOCATION:American Legion\, Overlook Rd\, Arlington\, NY\, 12603\, United States
CATEGORIES:Meeting
END:VEVENT
BEGIN:VEVENT
DTSTART;TZID=America/New_York:20241004T170000
DTEND;TZID=America/New_York:20241004T170000
DTSTAMP:20260422T220043
CREATED:20240929T144913Z
LAST-MODIFIED:20240929T145032Z
UID:28628-1728061200-1728061200@hudsonvalleyskiclub.org
SUMMARY:Race Training - Cinco de Mayo
DESCRIPTION:TGIF “Race Training”\nCinco de Mayo\, 404 Manchester Rd\, Poughkeepsie
URL:https://hudsonvalleyskiclub.org/event/race-training-cinco-de-mayo-2/
LOCATION:Cinco de Mayo 2\, 404 Manchester Rd\, Poughkeepsie\, NY\, 12603\, United States
CATEGORIES:Race Training
ORGANIZER;CN="Susan Kokosa":MAILTO:race_training-at-hudsonvalleyskiclub.org
END:VEVENT
BEGIN:VEVENT
DTSTART;VALUE=DATE:20241012
DTEND;VALUE=DATE:20241027
DTSTAMP:20260422T220043
CREATED:20231005T014342Z
LAST-MODIFIED:20231005T014342Z
UID:27378-1728691200-1729987199@hudsonvalleyskiclub.org
SUMMARY:Spain & Portugal
DESCRIPTION:Collette Tours & HVSC will be exploring Spain & Portugal October 12-26\, 2024.\nSee https://gateway.gocollette.com/link/1209840 for details.
URL:https://hudsonvalleyskiclub.org/event/spain-portugal/
LOCATION:NY
END:VEVENT
BEGIN:VEVENT
DTSTART;TZID=America/New_York:20241025T170000
DTEND;TZID=America/New_York:20241025T170000
DTSTAMP:20260422T220043
CREATED:20230417T172354Z
LAST-MODIFIED:20240929T145311Z
UID:26650-1729875600-1729875600@hudsonvalleyskiclub.org
SUMMARY:Race Training - La Puerta Azul
DESCRIPTION:TGIF “Race Training” – La Puerta Azul\, Rt-44 Millbrook
URL:https://hudsonvalleyskiclub.org/event/race-training-la-puerta-azul-5/
LOCATION:La Puerta Azul\, 2510 US-44\, Millbrook\, NY\, 12545
CATEGORIES:Race Training
ORGANIZER;CN="Susan Kokosa":MAILTO:race_training-at-hudsonvalleyskiclub.org
END:VEVENT
BEGIN:VEVENT
DTSTART;TZID=America/New_York:20241101T173000
DTEND;TZID=America/New_York:20241101T173000
DTSTAMP:20260422T220043
CREATED:20210829T150352Z
LAST-MODIFIED:20241029T013529Z
UID:24299-1730482200-1730482200@hudsonvalleyskiclub.org
SUMMARY:Race Training - Ship Lantern Inn
DESCRIPTION:TGIF “Race Training”\nShip Lantern Inn 1725 Route 9W Milton
URL:https://hudsonvalleyskiclub.org/event/race-training-millbrook-vineyards-6/
LOCATION:Ship Lantern Inn\, 1725 Route 9W\, Milton\, NY
CATEGORIES:Race Training
ORGANIZER;CN="Susan Kokosa":MAILTO:race_training-at-hudsonvalleyskiclub.org
END:VEVENT
BEGIN:VEVENT
DTSTART;VALUE=DATE:20241102
DTEND;VALUE=DATE:20241104
DTSTAMP:20260422T220043
CREATED:20241003T131607Z
LAST-MODIFIED:20241003T131607Z
UID:28657-1730505600-1730678399@hudsonvalleyskiclub.org
SUMMARY:Albany Ski Expo
DESCRIPTION:HVSC will once again have a table at the Adirondack Sports Northeast Ski Expo at the Albany Capital Center on November 2-3.\nSaturday 10am-5pm\, Sunday 10am-4pm.  Help out at our table\, or just explore the show.\nContact Alan for more details alanimhoff@gmail.com 973-722-1929.
URL:https://hudsonvalleyskiclub.org/event/albany-ski-expo/
LOCATION:Albany Capital Center\, 55 Eagle Street\, Albany\, NY\, United States
ORGANIZER;CN="Alan Imhoff":MAILTO:alanimhoff@gmail.com
END:VEVENT
BEGIN:VEVENT
DTSTART;TZID=America/New_York:20241106T190000
DTEND;TZID=America/New_York:20241106T190000
DTSTAMP:20260422T220043
CREATED:20210520T165332Z
LAST-MODIFIED:20240701T193607Z
UID:23739-1730919600-1730919600@hudsonvalleyskiclub.org
SUMMARY:Club Meeting
DESCRIPTION:Club meeting American Legion
URL:https://hudsonvalleyskiclub.org/event/hvsc-meeting-9/
LOCATION:American Legion\, Overlook Rd\, Arlington\, NY\, 12603\, United States
CATEGORIES:Meeting
END:VEVENT
BEGIN:VEVENT
DTSTART;TZID=America/New_York:20241115T173000
DTEND;TZID=America/New_York:20241115T173000
DTSTAMP:20260422T220043
CREATED:20220103T173810Z
LAST-MODIFIED:20241029T013940Z
UID:24698-1731691800-1731691800@hudsonvalleyskiclub.org
SUMMARY:Race Training - Cinco de Mayo
DESCRIPTION:TGIF “Race Training”\nCinco de Mayo\, 404 Manchester Rd Poughkeepsie
URL:https://hudsonvalleyskiclub.org/event/race-training-divine-wine-bar/
LOCATION:Cinco de Mayo 2\, 404 Manchester Rd\, Poughkeepsie\, NY\, 12603\, United States
CATEGORIES:Race Training
ORGANIZER;CN="Susan Kokosa":MAILTO:race_training-at-hudsonvalleyskiclub.org
END:VEVENT
BEGIN:VEVENT
DTSTART;TZID=America/New_York:20241122T173000
DTEND;TZID=America/New_York:20241122T173000
DTSTAMP:20260422T220043
CREATED:20241029T014538Z
LAST-MODIFIED:20241029T014538Z
UID:28695-1732296600-1732296600@hudsonvalleyskiclub.org
SUMMARY:Race Training - Vulagio's
DESCRIPTION:TGIF “Race Training” Vulagio’s\,  2593 Rt 52 Hopewell Junction  \n 
URL:https://hudsonvalleyskiclub.org/event/race-training-vulagios/
LOCATION:Vulagio’s\, 2593 Rt 52\, Hopewell junction\, ny\, 12533
CATEGORIES:Race Training
ORGANIZER;CN="Susan Kokosa":MAILTO:race_training-at-hudsonvalleyskiclub.org
END:VEVENT
BEGIN:VEVENT
DTSTART;TZID=America/New_York:20241123T180000
DTEND;TZID=America/New_York:20241123T190000
DTSTAMP:20260422T220043
CREATED:20240701T130609Z
LAST-MODIFIED:20250717T010813Z
UID:28384-1732384800-1732388400@hudsonvalleyskiclub.org
SUMMARY:Holiday Party - '24
DESCRIPTION:Pre-Holiday “Start of the Ski Season” joint with Trailsweepers. \nScreenshot
URL:https://hudsonvalleyskiclub.org/event/tentative-holiday-party/
LOCATION:Stonehedge\, 1694 Route 9W\, West Park\, 12493\, United States
END:VEVENT
BEGIN:VEVENT
DTSTART;TZID=America/New_York:20241204T190000
DTEND;TZID=America/New_York:20241204T190000
DTSTAMP:20260422T220043
CREATED:20220825T204950Z
LAST-MODIFIED:20241113T144248Z
UID:25719-1733338800-1733338800@hudsonvalleyskiclub.org
SUMMARY:Club Meeting
DESCRIPTION:The December 4th member meeting will feature two guest speakers – Noel Dillon from the Veteran Sportsman Association\, a volunteer organization supporting vets that hopes to bring back the Wappingers Creek Derby in 2025\, and Steve Massa from the affiliated group the ShredVets\, a vet run snow sports group.  Meeting starts at 7pm at the American Legion\, Overlook Rd at Old Degarmo Rd.
URL:https://hudsonvalleyskiclub.org/event/club-meeting-9/
LOCATION:American Legion\, Overlook Rd\, Arlington\, NY\, 12603\, United States
CATEGORIES:Meeting
END:VEVENT
BEGIN:VEVENT
DTSTART;TZID=America/New_York:20241206T173000
DTEND;TZID=America/New_York:20241206T173000
DTSTAMP:20260422T220043
CREATED:20230104T015645Z
LAST-MODIFIED:20241120T154134Z
UID:26159-1733506200-1733506200@hudsonvalleyskiclub.org
SUMMARY:Race Training - Beekman Arms
DESCRIPTION:TGIF/”Race Training” at Beekman Arms\, Rhinebeck\nTrailsweepers members are invited to join us.
URL:https://hudsonvalleyskiclub.org/event/tgif-with-trailsweepers-beekman-arms/
LOCATION:Beekman Arms\, Route 9\, Rhinebeck\, NY\, 12572\, United States
CATEGORIES:Race Training
ORGANIZER;CN="Susan Kokosa":MAILTO:race_training-at-hudsonvalleyskiclub.org
END:VEVENT
BEGIN:VEVENT
DTSTART;VALUE=DATE:20241217
DTEND;VALUE=DATE:20241218
DTSTAMP:20260422T220043
CREATED:20241209T204740Z
LAST-MODIFIED:20241210T200755Z
UID:28736-1734393600-1734479999@hudsonvalleyskiclub.org
SUMMARY:Early Season Ski Clinic
DESCRIPTION:Ski Instruction Clinic –  Early Season Warm-Up – Tue Dec 17 at Belleayre \nInstructor Herb Eschbach will focus on skills and techniques to  help you ski with greater confidence and enjoyment.\nTo register contact Herb Eschbach\, docherb47@gmail.com; (845) 242-6699 by Dec. 15.
URL:https://hudsonvalleyskiclub.org/event/early-season-instruction/
LOCATION:Belleayre\, 181 Galli Curci Rd\, Highmount\, NY\, 12441\, United States
CATEGORIES:Instruction
END:VEVENT
BEGIN:VEVENT
DTSTART;VALUE=DATE:20241223
DTEND;VALUE=DATE:20241224
DTSTAMP:20260422T220043
CREATED:20241210T195651Z
LAST-MODIFIED:20241210T200818Z
UID:28747-1734912000-1734998399@hudsonvalleyskiclub.org
SUMMARY:Early Season Ski Clinic
DESCRIPTION:Ski Instruction Clinic – Early Season Warm-Up – Mon Dec 23 at Belleayre \nInstructor Dan Croak will focus on skills and techniques to  help you get ready for the ski season.\nTo register contact Dan Croak\,  dbskiman@gmail.com (914) 263-3615 by Dec 20.
URL:https://hudsonvalleyskiclub.org/event/ski-instruction/
LOCATION:Belleayre\, 181 Galli Curci Rd\, Highmount\, NY\, 12441\, United States
CATEGORIES:Instruction
END:VEVENT
BEGIN:VEVENT
DTSTART;TZID=America/New_York:20250103T173000
DTEND;TZID=America/New_York:20250103T173000
DTSTAMP:20260422T220043
CREATED:20231126T184809Z
LAST-MODIFIED:20241228T143333Z
UID:27472-1735925400-1735925400@hudsonvalleyskiclub.org
SUMMARY:Race Training - Cafe Maya
DESCRIPTION:TGIF “Race Training” at Cafe Maya 2776 W. Main St Wappingers Falls\n(Be aware there are other similarly named restaurants in Dutchess County.)
URL:https://hudsonvalleyskiclub.org/event/race-training-cafe-maya-2/
LOCATION:Cafe Maya\, 2776 W. Main St\, Wappingers Falls\, NY\, 12590\, United States
CATEGORIES:Race Training
ORGANIZER;CN="Susan Kokosa":MAILTO:race_training-at-hudsonvalleyskiclub.org
END:VEVENT
BEGIN:VEVENT
DTSTART;VALUE=DATE:20250106
DTEND;VALUE=DATE:20250107
DTSTAMP:20260422T220043
CREATED:20241210T200420Z
LAST-MODIFIED:20241215T181453Z
UID:28751-1736121600-1736207999@hudsonvalleyskiclub.org
SUMMARY:Ski Instruction - Intermediate
DESCRIPTION:Ski Instruction  – Mon  January 6 at Belleayre \nContact Instructor Dan Croak for more details.  \nDan Croak\,  dbskiman@gmail.com (914) 263-3615 
URL:https://hudsonvalleyskiclub.org/event/ski-instruction-2/
LOCATION:Belleayre\, 181 Galli Curci Rd\, Highmount\, NY\, 12441\, United States
CATEGORIES:Instruction
END:VEVENT
BEGIN:VEVENT
DTSTART;TZID=America/New_York:20250108T190000
DTEND;TZID=America/New_York:20250108T190000
DTSTAMP:20260422T220043
CREATED:20220103T175253Z
LAST-MODIFIED:20241223T013538Z
UID:24705-1736362800-1736362800@hudsonvalleyskiclub.org
SUMMARY:Club Meeting
DESCRIPTION:American Legion 55 Overlook Rd
URL:https://hudsonvalleyskiclub.org/event/club-meeting/
LOCATION:American Legion\, Overlook Rd\, Arlington\, NY\, 12603\, United States
CATEGORIES:Meeting
END:VEVENT
BEGIN:VEVENT
DTSTART;TZID=America/New_York:20250110T173000
DTEND;TZID=America/New_York:20250110T173000
DTSTAMP:20260422T220043
CREATED:20240323T185147Z
LAST-MODIFIED:20241228T143849Z
UID:27938-1736530200-1736530200@hudsonvalleyskiclub.org
SUMMARY:Race Training - Vulajio's
DESCRIPTION:TGIF “Race Training” – Vulajio’s 2593 Rt 52 Hopewell Jct
URL:https://hudsonvalleyskiclub.org/event/race-training-vulajios/
LOCATION:Vulajio’s\, 2593 Rt 52\, Hopewell Junction\, NY\, United States
CATEGORIES:Race Training
ORGANIZER;CN="Susan Kokosa":MAILTO:race_training-at-hudsonvalleyskiclub.org
END:VEVENT
END:VCALENDAR