BEGIN:VCALENDAR
VERSION:2.0
PRODID:-//Hudson Valley Ski Club, Inc. - ECPv6.15.20//NONSGML v1.0//EN
CALSCALE:GREGORIAN
METHOD:PUBLISH
X-WR-CALNAME:Hudson Valley Ski Club, Inc.
X-ORIGINAL-URL:https://hudsonvalleyskiclub.org
X-WR-CALDESC:Events for Hudson Valley Ski Club, Inc.
REFRESH-INTERVAL;VALUE=DURATION:PT1H
X-Robots-Tag:noindex
X-PUBLISHED-TTL:PT1H
BEGIN:VTIMEZONE
TZID:America/New_York
BEGIN:DAYLIGHT
TZOFFSETFROM:-0500
TZOFFSETTO:-0400
TZNAME:EDT
DTSTART:20220313T070000
END:DAYLIGHT
BEGIN:STANDARD
TZOFFSETFROM:-0400
TZOFFSETTO:-0500
TZNAME:EST
DTSTART:20221106T060000
END:STANDARD
BEGIN:DAYLIGHT
TZOFFSETFROM:-0500
TZOFFSETTO:-0400
TZNAME:EDT
DTSTART:20230312T070000
END:DAYLIGHT
BEGIN:STANDARD
TZOFFSETFROM:-0400
TZOFFSETTO:-0500
TZNAME:EST
DTSTART:20231105T060000
END:STANDARD
BEGIN:DAYLIGHT
TZOFFSETFROM:-0500
TZOFFSETTO:-0400
TZNAME:EDT
DTSTART:20240310T070000
END:DAYLIGHT
BEGIN:STANDARD
TZOFFSETFROM:-0400
TZOFFSETTO:-0500
TZNAME:EST
DTSTART:20241103T060000
END:STANDARD
END:VTIMEZONE
BEGIN:VEVENT
DTSTART;TZID=America/New_York:20230616T170000
DTEND;TZID=America/New_York:20230616T170000
DTSTAMP:20260422T185257
CREATED:20210606T214831Z
LAST-MODIFIED:20230616T174717Z
UID:23953-1686934800-1686934800@hudsonvalleyskiclub.org
SUMMARY:Race Training - moved to Antonella's Hyde Park
DESCRIPTION:Rain predicted for Millbrook Vineyards\, so moved to Antonella’s Hyde Park  \nWas: Millbrook Vineyards — Bring your own chair\, blanket\, snacks. Must purchase wine there if you want to drink (no outside alcohol). Food trucks usually available.
URL:https://hudsonvalleyskiclub.org/event/race-training-millbrook-vineyards-3/
LOCATION:Antonella’s\, 4246 Albany Post Rd\, Hyde Park\, NY\, 12538\, United States
CATEGORIES:Race Training
END:VEVENT
BEGIN:VEVENT
DTSTART;TZID=America/New_York:20230602T180000
DTEND;TZID=America/New_York:20230602T220000
DTSTAMP:20260422T185257
CREATED:20230404T003220Z
LAST-MODIFIED:20230525T163444Z
UID:26560-1685728800-1685743200@hudsonvalleyskiclub.org
SUMMARY:Renegades Baseball
DESCRIPTION:Begin with picnic of hot dogs & hamburgers inside the ballpark before the game starts at 7:05pm.\n(Plan to arrive extra early\, typically long traffic delays.)\nGroup tickets $40 – Jay needs to order before June 1.\nContact Jay at jay@brennerphoto.com
URL:https://hudsonvalleyskiclub.org/event/renegades-baseball-2/
LOCATION:Dutchess Stadium\, 1500 NY-9D\, Wappingers Falls\, New York\, 12590
CATEGORIES:Event
ORGANIZER;CN="Jay Brenner":MAILTO:jay@brennerphoto.com
END:VEVENT
BEGIN:VEVENT
DTSTART;VALUE=DATE:20230510
DTEND;VALUE=DATE:20230511
DTSTAMP:20260422T185257
CREATED:20230404T000858Z
LAST-MODIFIED:20230504T024116Z
UID:26549-1683676800-1683763199@hudsonvalleyskiclub.org
SUMMARY:Lion King on Broadway
DESCRIPTION:Wednesday 2pm Matinee.\nTake train to Grand Central where we’ll meet to find lunch before the show.\nSign-up deadline has passed.  Questions\, contact Jay at jay@brennerphoto.com
URL:https://hudsonvalleyskiclub.org/event/lion-king-on-broadway/
LOCATION:NY
CATEGORIES:Event
ORGANIZER;CN="Jay Brenner":MAILTO:jay@brennerphoto.com
END:VEVENT
BEGIN:VEVENT
DTSTART;TZID=America/New_York:20230506T110000
DTEND;TZID=America/New_York:20230506T140000
DTSTAMP:20260422T185257
CREATED:20230404T002018Z
LAST-MODIFIED:20230504T150313Z
UID:26551-1683370800-1683381600@hudsonvalleyskiclub.org
SUMMARY:Bike Ride Dutchess Rail Trail
DESCRIPTION:Moved from April 29 to May 6.\nLeave Hopewell Junction at 11am.  An easy ride for about an hour out & hour return.\nLunch/drinks at nearby Daddy O’s restaurant.\nLet Jay know if you are coming  jay@brennerphoto.com
URL:https://hudsonvalleyskiclub.org/event/bike-ride-dutchess-rail-trail/
LOCATION:Rail Trail Hopewell\, 19 Railroad Ave\, Hopewell Jct\, NY\, 12533\, United States
CATEGORIES:Event
ORGANIZER;CN="Jay Brenner":MAILTO:jay@brennerphoto.com
END:VEVENT
BEGIN:VEVENT
DTSTART;TZID=America/New_York:20230505T180000
DTEND;TZID=America/New_York:20230505T220000
DTSTAMP:20260422T185257
CREATED:20220331T220157Z
LAST-MODIFIED:20230412T223615Z
UID:24995-1683309600-1683324000@hudsonvalleyskiclub.org
SUMMARY:Trailsweepers Spring Banquet
DESCRIPTION:HVSC members are invited to join Trailsweeper’s Spring Banquet \n6-10pm Friday May 5 at Ole Savannah on the Roundout\nBuffet dinner entrees: Pork Sliders\, Salmon\, Chicken\, Beef\nDancing to Brodie’s Basement Band\n$45 per person by April 25\, cash bar\, (after April 25: $50\, space available) \nRSVP with check to: Diana Ziegenfelder\, PO Box 254\, Glenford\, NY 12433
URL:https://hudsonvalleyskiclub.org/event/trailsweepers-spring-banquet/
LOCATION:Ole Savannah\, 100 Rondout Landing\, Kingston\, NY\, 12401\, United States
END:VEVENT
BEGIN:VEVENT
DTSTART;TZID=America/New_York:20230428T170000
DTEND;TZID=America/New_York:20230428T170000
DTSTAMP:20260422T185257
CREATED:20230404T180651Z
LAST-MODIFIED:20230404T180651Z
UID:26586-1682701200-1682701200@hudsonvalleyskiclub.org
SUMMARY:Race Training - Antonella's
DESCRIPTION:Race Training – Antonella’s – 4246 Albany Post Rd\, Hyde Park
URL:https://hudsonvalleyskiclub.org/event/race-training-antonellas/
LOCATION:Antonella’s\, 4246 Albany Post Rd\, Hyde Park\, NY\, 12538\, United States
CATEGORIES:Race Training
ORGANIZER;CN="Susan Kokosa":MAILTO:race_training-at-hudsonvalleyskiclub.org
END:VEVENT
END:VCALENDAR